BEGIN:VCALENDAR
PRODID:NingEventWidget-v1
VERSION:2.0
METHOD:PUBLISH
BEGIN:VTIMEZONE
TZID:Europe/Paris
X-LIC-LOCATION:Europe/Paris
BEGIN:DAYLIGHT
TZOFFSETFROM:+0100
TZOFFSETTO:+0200
TZNAME:CEST
DTSTART:19700329T020000
RRULE:FREQ=YEARLY;BYMONTH=3;BYDAY=-1SU
END:DAYLIGHT
BEGIN:STANDARD
TZOFFSETFROM:+0200
TZOFFSETTO:+0100
TZNAME:CET
DTSTART:19701025T030000
RRULE:FREQ=YEARLY;BYMONTH=10;BYDAY=-1SU
END:STANDARD
END:VTIMEZONE
BEGIN:VEVENT
UID:2485226:Event:2850233
DTSTAMP:20260421T191937Z
SUMMARY:Rencontres épanews - Ardêche 2017
DESCRIPTION:Les rencontres 2017 ont rassemblées 65 personnes en Ardè
 che pour une semaine d'échange et de partages.\r\nLes rencontres épa
 news ont lieux chaque année au début du mois d'août  (le premier v
 endredi du mois)\r\nEn savoir plus\r\nSi vous avez participé aux renc
 ontres 2017, vous pouvez rejoindre le groupe Facebook\r\n\n\nPour plus
  d'information, aller sur https://epanews.fr/events/rencontres-epanews
 -ardeche-2017-1
DTSTART;TZID=Europe/Paris:20170804T140000
DTEND;TZID=Europe/Paris:20170811T114500
CATEGORIES:tous
LOCATION:Ardèche
WEBSITE:https://goo.gl/maps/kV6AD
URL:https://goo.gl/maps/kV6AD
CONTACT:06 03 92 61 55
ORGANIZER;CN=épanews:https://epanews.fr/profile/association_epanews
ATTACH;FMTTYPE="image/jpeg":http://storage.ning.com/topology/rest/1.0/
 file/get/1662377174?profile=original
ATTENDEE;ROLE=REQ-PARTICIPANT;PARTSTAT=ACCEPTED;RSVP=TRUE;CN=épanews:
 https://epanews.fr/profile/association_epanews
END:VEVENT
END:VCALENDAR
