BEGIN:VCALENDAR
PRODID:NingEventWidget-v1
VERSION:2.0
METHOD:PUBLISH
BEGIN:VTIMEZONE
TZID:Europe/Paris
X-LIC-LOCATION:Europe/Paris
BEGIN:DAYLIGHT
TZOFFSETFROM:+0100
TZOFFSETTO:+0200
TZNAME:CEST
DTSTART:19700329T020000
RRULE:FREQ=YEARLY;BYMONTH=3;BYDAY=-1SU
END:DAYLIGHT
BEGIN:STANDARD
TZOFFSETFROM:+0200
TZOFFSETTO:+0100
TZNAME:CET
DTSTART:19701025T030000
RRULE:FREQ=YEARLY;BYMONTH=10;BYDAY=-1SU
END:STANDARD
END:VTIMEZONE
BEGIN:VEVENT
UID:2485226:Event:673079
DTSTAMP:20260423T190814Z
SUMMARY:Rencontrer ou transformer l'amour
DESCRIPTION: \nATELIER OUVERT AUX  THERAPEUTES ET PARTICULIERS\n --
 ------------------------------------------------------------------ Lor
 s de cet atelier, Déborah Waknine propose aux personnes célibataires
  ou aux couples en difficulté de travailler sur leurs programmes biol
 ogiques en remontant 18 mois avant notre naissance, vous questionnant 
 sur la manière dont vous vous positionnez et identifiez aujourd'hui d
 ans la relation. Dans un second temps, Déborah vous invitera à faire
  un retour en arrière sur les hommes ou femmes qui ont compté dans n
 otre vie puis à visualiser, sentir, toucher en conscience l'homme ou 
 la femme qu'on désire inviter dans notre vie.\nPour en savoir plus su
 r Déborah: www.deborahwaknine.com  \n \nPour plus d'informations et
  pour vous inscrire, contactez Céline: celineetcheverrymendy@hotmail.
 com ou 06.11.67.44.30.\n\nPour plus d'information, aller sur https://e
 panews.fr/events/rencontrer-ou-transformer-l-amour
DTSTART;TZID=Europe/Paris:20120224T200000
DTEND;TZID=Europe/Paris:20120224T234500
CATEGORIES:75
LOCATION:Paris
WEBSITE:http://www.deborahwaknine.com
URL:http://www.deborahwaknine.com
CONTACT:0611674430
ORGANIZER;CN="Céline Etcheverry-Mendy":https://epanews.fr/profile/Cel
 ineEtcheverryMendy
ATTACH;FMTTYPE="image/jpeg":http://storage.ning.com/topology/rest/1.0/
 file/get/1662544999?profile=original
ATTENDEE;ROLE=REQ-PARTICIPANT;PARTSTAT=ACCEPTED;RSVP=TRUE;CN="Céline 
 Etcheverry-Mendy":https://epanews.fr/profile/CelineEtcheverryMendy
END:VEVENT
END:VCALENDAR
