BEGIN:VCALENDAR
PRODID:NingEventWidget-v1
VERSION:2.0
METHOD:PUBLISH
BEGIN:VTIMEZONE
TZID:Europe/Paris
X-LIC-LOCATION:Europe/Paris
BEGIN:DAYLIGHT
TZOFFSETFROM:+0100
TZOFFSETTO:+0200
TZNAME:CEST
DTSTART:19700329T020000
RRULE:FREQ=YEARLY;BYMONTH=3;BYDAY=-1SU
END:DAYLIGHT
BEGIN:STANDARD
TZOFFSETFROM:+0200
TZOFFSETTO:+0100
TZNAME:CET
DTSTART:19701025T030000
RRULE:FREQ=YEARLY;BYMONTH=10;BYDAY=-1SU
END:STANDARD
END:VTIMEZONE
BEGIN:VEVENT
UID:2485226:Event:1024100
DTSTAMP:20260422T232457Z
SUMMARY:Rencontrer  les cristaux avec le tarot
DESCRIPTION:Les cristaux sont nos alliés, ce sont des outils privilé
 giés pour la guérison qui agissent sur tous les plans, physique, ém
 otionnel et mental. Ils peuvent débloquer les nœuds énergétiques e
 t nous aider à nous rééquilibrer, nous apporter leur protection ou 
 renforcer nos qualités pour nous soutenir dans ce que nous entrepreno
 ns. Au cours de cet atelier, je vous proposerai des exercices utilisan
 t une approche intuitive pour découvrir les cristaux et votre référ
 entiel de naissance (thème de naissance  tarologique) à travers des
  exercices qui vous permettront aussi de vous rencontrer.\nEntrée lib
 re, nombre de places limité Inscription indispensables : Caroline : 0
 6 72 44 18 33 – contact@chemins-de-sens.fr\n\nPour plus d'informatio
 n, aller sur https://epanews.fr/events/rencontrer-les-cristaux-avec-le
 -tarot
DTSTART;TZID=Europe/Paris:20121201T143000
DTEND;TZID=Europe/Paris:20121201T173000
CATEGORIES:75
LOCATION:Cabinet groupe Nation (Paris)
WEBSITE:http://ww.chemins-de-sens.fr
URL:http://ww.chemins-de-sens.fr
CONTACT:06 72 44 18 33 - contact@chemins-de-sens.fr
ORGANIZER;CN=caroline:https://epanews.fr/profile/caroline589
ATTACH;FMTTYPE="image/jpeg":http://storage.ning.com/topology/rest/1.0/
 file/get/1662700603?profile=original
ATTENDEE;ROLE=REQ-PARTICIPANT;PARTSTAT=ACCEPTED;RSVP=TRUE;CN=caroline:
 https://epanews.fr/profile/caroline589
END:VEVENT
END:VCALENDAR
