BEGIN:VCALENDAR
PRODID:NingEventWidget-v1
VERSION:2.0
METHOD:PUBLISH
BEGIN:VTIMEZONE
TZID:Europe/Paris
X-LIC-LOCATION:Europe/Paris
BEGIN:DAYLIGHT
TZOFFSETFROM:+0100
TZOFFSETTO:+0200
TZNAME:CEST
DTSTART:19700329T020000
RRULE:FREQ=YEARLY;BYMONTH=3;BYDAY=-1SU
END:DAYLIGHT
BEGIN:STANDARD
TZOFFSETFROM:+0200
TZOFFSETTO:+0100
TZNAME:CET
DTSTART:19701025T030000
RRULE:FREQ=YEARLY;BYMONTH=10;BYDAY=-1SU
END:STANDARD
END:VTIMEZONE
BEGIN:VEVENT
UID:2485226:Event:1974268
DTSTAMP:20260422T124720Z
SUMMARY:Rencontrer l'Homme Libre en soi - Formation dédiée aux Homme
 s-cursus annueL
DESCRIPTION:Un Homme Libre est devenu puissant et apaisé. Par la renc
 ontre avec ses ressentis, il trouve sa sécurité intérieure. L'Homme
  Libre goûte à la sensation d'être complet.\nDeuxième session sur 
 deux jours complets : \"Vivre l'intuition et la confiance\". Ne plus c
 hercher la compréhension à partir de l'extérieur mais observer ses 
 sensations. Contact: 06 64 273 147 - 06 74 15 52 39 contact@terrestant
 riques.org\nFormation Hommes 2014-2015.jpg\n\nPour plus d'information,
  aller sur https://epanews.fr/events/rencontrer-l-homme-libre-en-soi-f
 ormation-d-di-e-aux-hommes-1
DTSTART;TZID=Europe/Paris:20150116T180000
DTEND;TZID=Europe/Paris:20150118T173000
CATEGORIES:tous
LOCATION:Grillon (84)
WEBSITE:http://terrestantriques.blogspot.fr/p/formation-personnelle-de
 -lhomme-libre.html
URL:http://terrestantriques.blogspot.fr/p/formation-personnelle-de-lho
 mme-libre.html
CONTACT:06 64 273 147 - 06 74 15 52 39
ORGANIZER:Dominique Giral & Frédéric Steine
ATTACH;FMTTYPE="image/jpeg":http://storage.ning.com/topology/rest/1.0/
 file/get/1663176908?profile=original
ATTENDEE;ROLE=REQ-PARTICIPANT;PARTSTAT=ACCEPTED;RSVP=TRUE;CN="Dominiqu
 e Giral":https://epanews.fr/profile/dominique
END:VEVENT
END:VCALENDAR
