BEGIN:VCALENDAR
PRODID:NingEventWidget-v1
VERSION:2.0
METHOD:PUBLISH
BEGIN:VTIMEZONE
TZID:Europe/Paris
X-LIC-LOCATION:Europe/Paris
BEGIN:DAYLIGHT
TZOFFSETFROM:+0100
TZOFFSETTO:+0200
TZNAME:CEST
DTSTART:19700329T020000
RRULE:FREQ=YEARLY;BYMONTH=3;BYDAY=-1SU
END:DAYLIGHT
BEGIN:STANDARD
TZOFFSETFROM:+0200
TZOFFSETTO:+0100
TZNAME:CET
DTSTART:19701025T030000
RRULE:FREQ=YEARLY;BYMONTH=10;BYDAY=-1SU
END:STANDARD
END:VTIMEZONE
BEGIN:VEVENT
UID:2485226:Event:57869
DTSTAMP:20260419T211223Z
SUMMARY:Rencontre-Partage des Créatifs Culturels
DESCRIPTION:Rencontre-Partage des Créatifs Culturels\nDimanche 9 mai 
 de 12h à 20h\n\nAu Parc Méric\nRue de Ferran, Montpellier, Quartier 
 Aiguelongue\n(à l'espace carré à gauche avant les jeux pour enfants
 )\n\nMidi - Repas partagé tiré du sac, échanges libres\n14h - Débu
 t des partages de \"savoir faire\" et \"savoir être\",\nsous forme d'
 échanges de pratiques, de minis ateliers, d'informations, de lectures
 , etc.\n\nVenez nous faire découvrir un lieu que vous appréciez, une
  recette insolite,\nun livre qui vous a touché, votre passion, votre 
 métier, une chanson, etc.\n\nTout le monde est dans le partage,\net v
 ous avez de 2 à 30 minutes, selon ce que vous proposez.\n\nPour des r
 aisons d'organisation et afin que la journée se déroule dans les mei
 lleures conditions,\nmerci de vous inscrire auprès de Sabine au 06 21
  80 14 21 ! :-)\n\nAu plaisir de vous y voir...\n\nPour plus d'informa
 tion, aller sur https://epanews.fr/events/rencontrepartage-des-creatif
 s
DTSTART;TZID=Europe/Paris:20100509T120000
DTEND;TZID=Europe/Paris:20100509T200000
CATEGORIES:34
LOCATION:Parc Méric
WEBSITE:
URL:
CONTACT:06 21 80 14 21
ORGANIZER:Sabine, Muriel... et CC
ATTACH;FMTTYPE="image/jpeg":http://storage.ning.com/topology/rest/1.0/
 file/get/1662301224?profile=original
ATTENDEE;ROLE=REQ-PARTICIPANT;PARTSTAT=ACCEPTED;RSVP=TRUE;CN=Muriel:ht
 tps://epanews.fr/profile/Muriel
END:VEVENT
END:VCALENDAR
