BEGIN:VCALENDAR
PRODID:NingEventWidget-v1
VERSION:2.0
METHOD:PUBLISH
BEGIN:VTIMEZONE
TZID:Europe/Paris
X-LIC-LOCATION:Europe/Paris
BEGIN:DAYLIGHT
TZOFFSETFROM:+0100
TZOFFSETTO:+0200
TZNAME:CEST
DTSTART:19700329T020000
RRULE:FREQ=YEARLY;BYMONTH=3;BYDAY=-1SU
END:DAYLIGHT
BEGIN:STANDARD
TZOFFSETFROM:+0200
TZOFFSETTO:+0100
TZNAME:CET
DTSTART:19701025T030000
RRULE:FREQ=YEARLY;BYMONTH=10;BYDAY=-1SU
END:STANDARD
END:VTIMEZONE
BEGIN:VEVENT
UID:2485226:Event:2685072
DTSTAMP:20260421T184838Z
SUMMARY:rencontre spirituelle avec les dauphins et les baleines
DESCRIPTION:18-19 août Venez vivre deux jours de rêve en mer sur un 
 catamaran confortable\nPour vivre une expérience unique :Rencontre r
 espectueuse avec les cétacésNuit en merBaignadeConcerts-Soins avec l
 a Lyre de cristalCoucher de soleil\nDépart le 18 août à 9h  Six-Fo
 urs Plage Dégustation des mets que chacun aura amenéCoucher de solei
 l, concert de lyreNuit en merRetour le 19 août à 18h\n\nPour plus d'
 information, aller sur https://epanews.fr/events/rencontre-spirituelle
 -avec-les-dauphins-et-les-baleines-4
DTSTART;TZID=Europe/Paris:20160818T090000
DTEND;TZID=Europe/Paris:20160819T180000
CATEGORIES:83
LOCATION:Six fours plage
WEBSITE:
URL:
CONTACT:0681364253
ORGANIZER;CN="Véronique Jaques":https://epanews.fr/profile/VeroniqueJ
 aques364
ATTACH;FMTTYPE="image/jpeg":http://storage.ning.com/topology/rest/1.0/
 file/get/1663589040?profile=original
ATTENDEE;ROLE=REQ-PARTICIPANT;PARTSTAT=ACCEPTED;RSVP=TRUE;CN="Véroniq
 ue Jaques":https://epanews.fr/profile/VeroniqueJaques364
END:VEVENT
END:VCALENDAR
