BEGIN:VCALENDAR
PRODID:NingEventWidget-v1
VERSION:2.0
METHOD:PUBLISH
BEGIN:VTIMEZONE
TZID:Europe/Paris
X-LIC-LOCATION:Europe/Paris
BEGIN:DAYLIGHT
TZOFFSETFROM:+0100
TZOFFSETTO:+0200
TZNAME:CEST
DTSTART:19700329T020000
RRULE:FREQ=YEARLY;BYMONTH=3;BYDAY=-1SU
END:DAYLIGHT
BEGIN:STANDARD
TZOFFSETFROM:+0200
TZOFFSETTO:+0100
TZNAME:CET
DTSTART:19701025T030000
RRULE:FREQ=YEARLY;BYMONTH=10;BYDAY=-1SU
END:STANDARD
END:VTIMEZONE
BEGIN:VEVENT
UID:2485226:Event:2591339
DTSTAMP:20260424T194309Z
SUMMARY:Rencontre Ré-créative
DESCRIPTION:Des jeux d'écriture inventifs pour stimuler votre imagina
 ire!\nParfois le trait libre, les couleurs, les images s'invitent à l
 a libération de votre pouvoir d'imagination !\nLe tout dans une ambia
 nce chaleureuse et conviviale ! \nJe me réjouis de vous y accueillir
 , à tout bientôt !\n\nPour plus d'information, aller sur https://epa
 news.fr/events/rencontre-r-cr-ative
DTSTART;TZID=Europe/Paris:20160306T150000
DTEND;TZID=Europe/Paris:20160306T183000
CATEGORIES:75009
LOCATION:Le Paprika 28 Avenue Trudaine 75009 Paris
WEBSITE:
URL:
CONTACT:
ORGANIZER;CN="Corinne Ancel":https://epanews.fr/profile/AncelCorinne
ATTACH;FMTTYPE="image/jpeg":http://storage.ning.com/topology/rest/1.0/
 file/get/1663536313?profile=original
ATTENDEE;ROLE=REQ-PARTICIPANT;PARTSTAT=ACCEPTED;RSVP=TRUE;CN="Corinne 
 Ancel":https://epanews.fr/profile/AncelCorinne
END:VEVENT
END:VCALENDAR
