BEGIN:VCALENDAR
PRODID:NingEventWidget-v1
VERSION:2.0
METHOD:PUBLISH
BEGIN:VTIMEZONE
TZID:Europe/Paris
X-LIC-LOCATION:Europe/Paris
BEGIN:DAYLIGHT
TZOFFSETFROM:+0100
TZOFFSETTO:+0200
TZNAME:CEST
DTSTART:19700329T020000
RRULE:FREQ=YEARLY;BYMONTH=3;BYDAY=-1SU
END:DAYLIGHT
BEGIN:STANDARD
TZOFFSETFROM:+0200
TZOFFSETTO:+0100
TZNAME:CET
DTSTART:19701025T030000
RRULE:FREQ=YEARLY;BYMONTH=10;BYDAY=-1SU
END:STANDARD
END:VTIMEZONE
BEGIN:VEVENT
UID:2485226:Event:2797938
DTSTAMP:20260422T151122Z
SUMMARY:RENCONTRE PARTAGE REIKI sur Aubagne13
DESCRIPTION:Chaque mardi de 19h30 à 21h sauf vacance scolaire.\nRenco
 ntre partage afin de recevoir du Reiki gratuitement par nos thérapeut
 es certifiés\n\nOuvert à tous ET GRATUIT . Apportez un met sucré ou
  salé pour partager le repas du soir\nLe Reiki est une méthode éner
 gétique universelles par impositions de mains.Idéal pour les douleur
 s physiques stress. blocage énergétique ...\nsalle LCR le Bertagne a
 venue Marcel Paul 13400 Aubagne (à coté des impots)\n réserver vot
 re place\n\nPour plus d'information, aller sur https://epanews.fr/even
 ts/rencontre-partage-reiki-sur-aubagne13
DTSTART;TZID=Europe/Paris:20170228T193000
DTEND;TZID=Europe/Paris:20170228T210000
CATEGORIES:13
LOCATION:le bertagne RCL ellas 13400 aubagne
WEBSITE:
URL:
CONTACT:0622560797
ORGANIZER;CN="christine caruana":https://epanews.fr/profile/christinec
 aruana
ATTACH;FMTTYPE="image/jpeg":
ATTENDEE;ROLE=REQ-PARTICIPANT;PARTSTAT=ACCEPTED;RSVP=TRUE;CN="christin
 e caruana":https://epanews.fr/profile/christinecaruana
END:VEVENT
END:VCALENDAR
