BEGIN:VCALENDAR
PRODID:NingEventWidget-v1
VERSION:2.0
METHOD:PUBLISH
BEGIN:VTIMEZONE
TZID:Europe/Paris
X-LIC-LOCATION:Europe/Paris
BEGIN:DAYLIGHT
TZOFFSETFROM:+0100
TZOFFSETTO:+0200
TZNAME:CEST
DTSTART:19700329T020000
RRULE:FREQ=YEARLY;BYMONTH=3;BYDAY=-1SU
END:DAYLIGHT
BEGIN:STANDARD
TZOFFSETFROM:+0200
TZOFFSETTO:+0100
TZNAME:CET
DTSTART:19701025T030000
RRULE:FREQ=YEARLY;BYMONTH=10;BYDAY=-1SU
END:STANDARD
END:VTIMEZONE
BEGIN:VEVENT
UID:2485226:Event:2873479
DTSTAMP:20260422T112607Z
SUMMARY:Rencontre et méditation avec les lettres hébraïques
DESCRIPTION:Plus qu'un objet d'apprentissage, la langue hébraïque es
 t un véritable sujet de révélation pour celui qui se met à son éc
 oute.\nLes grandes lettres sacrées hébraïques nous révèlent à no
 us-mêmes tant elles sont porteuses d'enseignement et nous conduisent 
 dans un véritable pèlerinage intérieur. A partir d'une lecture arch
 étypale des grands thèmes mythiques de la bible, ouverte à la symbo
 lique, nous irons à leur rencontre.\nCes ateliers sont sous-tendus pa
 r la symbolique d'une ou deux lettres qui nous permettrons de ressenti
 r la relation unique et personnelle qui nous lie à elles. L’enseign
 ement donné à partir de la contemplation d’œuvres calligraphiées
 , alterne avec des temps d’assise silencieuse et de pratiques artist
 iques. Une initiation au Tsérouf sera également proposée. Une lectu
 re du texte en hébreu complètera cette rencontre afin de laisser vib
 rer en nous ces sonorités sacrées.Rencontre%20autour%20des%20lettres
 %20h%C3%A9bra%C3%AFques-22-09-2017.pdf\n\nPour plus d'information, all
 er sur https://epanews.fr/events/rencontre-et-m-ditation-avec-les-lett
 res-h-bra-ques
DTSTART;TZID=Europe/Paris:20170922T193000
DTEND;TZID=Europe/Paris:20170922T213000
CATEGORIES:83
LOCATION:Grimaud
WEBSITE:http://www.chemindeslettreshebraiques.com/
URL:http://www.chemindeslettreshebraiques.com/
CONTACT:06 70 39 58 79 ou 04 94 85 74 01
ORGANIZER;CN="Yoel Laffitte":https://epanews.fr/profile/YoelLaffitte
ATTACH;FMTTYPE="image/jpeg":http://storage.ning.com/topology/rest/1.0/
 file/get/1663691833?profile=original
ATTENDEE;ROLE=REQ-PARTICIPANT;PARTSTAT=ACCEPTED;RSVP=TRUE;CN="Yoel Laf
 fitte":https://epanews.fr/profile/YoelLaffitte
END:VEVENT
END:VCALENDAR
