BEGIN:VCALENDAR
PRODID:NingEventWidget-v1
VERSION:2.0
METHOD:PUBLISH
BEGIN:VTIMEZONE
TZID:Europe/Paris
X-LIC-LOCATION:Europe/Paris
BEGIN:DAYLIGHT
TZOFFSETFROM:+0100
TZOFFSETTO:+0200
TZNAME:CEST
DTSTART:19700329T020000
RRULE:FREQ=YEARLY;BYMONTH=3;BYDAY=-1SU
END:DAYLIGHT
BEGIN:STANDARD
TZOFFSETFROM:+0200
TZOFFSETTO:+0100
TZNAME:CET
DTSTART:19701025T030000
RRULE:FREQ=YEARLY;BYMONTH=10;BYDAY=-1SU
END:STANDARD
END:VTIMEZONE
BEGIN:VEVENT
UID:2485226:Event:2314072
DTSTAMP:20260419T170228Z
SUMMARY:Rencontre et chasse aux livres avec Jean-FranÃ§ois VÃ©zina
DESCRIPTION:La pÃ©niche librairie L'Eau et les RÃªves et les Editions 
 de l'Homme vous invitent Ã  une rencontre autour du nouveau livre deÂ 
 Jean-FranÃ§ois VÃ©zina \"Tout se joue avant 100 ans !\"\nAu programme 
 : Rencontre et prÃ©sentation du livre, sÃ©ance de signatures, puis dan
 s le mÃªme esprit qu'une chasse au trÃ©sor, une chasse aux livres sera
  proposÃ©e aux participants qui recevront alors les exemplaires trouvÃ
 ©s en cadeauâ€¦  Lâ€™accÃ¨s Ã  la pÃ©niche Ã©tant limitÃ© Ã  50 person
 nes, l'entrÃ©e est libre mais rÃ©servation indispensable avant le lund
 i 11 mai au ou Toutsejoueavant100ans@hotmail.com   Quelques mots sur l
 'auteur : Psychologue de formation et originaire du QuÃ©bec, Jean-Fran
 Ã§ois VÃ©zina se dÃ©crit comme un gardien de phare et un explorateur d
 e lâ€™inconscient. Il propose avec ce livre une dÃ©marche psycho-philo
 -poÃ©tique, oÃ¹ se mÃªlent la rigueur de la psychologie, le jeu du que
 stionnement philosophique et la libertÃ© du langage mÃ©taphorique.  Il
  est aussi lâ€™auteur, aux Ã‰ditions de l'Homme, des Hasards NÃ©cessai
 res (devenu un best-seller avec plus de 60 000 exemplaires vendus), Se
  rÃ©aliser dans un monde dâ€™Images, de Lâ€™Aventure amoureuse, et de 
 Danser avec le Chaos.\n\nPour plus d'information, aller sur https://ep
 anews.fr/events/rencontre-et-chasse-aux-livres-avec-jean-fran-ois-v-zi
 na
DTSTART;TZID=Europe/Paris:20150513T183000
DTEND;TZID=Europe/Paris:20150513T203000
CATEGORIES:75
LOCATION:PÃ©niche-librairie L'eau et les RÃªves
WEBSITE:https://www.facebook.com/events/433007486859675/
URL:https://www.facebook.com/events/433007486859675/
CONTACT:06 63 71 35 62
ORGANIZER;CN="Phalae Nopsis":https://epanews.fr/profile/PhalaeNopsis
ATTACH;FMTTYPE="image/jpeg":http://storage.ning.com/topology/rest/1.0/
 file/get/1663388247?profile=original
ATTENDEE;ROLE=REQ-PARTICIPANT;PARTSTAT=ACCEPTED;RSVP=TRUE;CN="Phalae N
 opsis":https://epanews.fr/profile/PhalaeNopsis
END:VEVENT
END:VCALENDAR
