BEGIN:VCALENDAR
PRODID:NingEventWidget-v1
VERSION:2.0
METHOD:PUBLISH
BEGIN:VTIMEZONE
TZID:Europe/Paris
X-LIC-LOCATION:Europe/Paris
BEGIN:DAYLIGHT
TZOFFSETFROM:+0100
TZOFFSETTO:+0200
TZNAME:CEST
DTSTART:19700329T020000
RRULE:FREQ=YEARLY;BYMONTH=3;BYDAY=-1SU
END:DAYLIGHT
BEGIN:STANDARD
TZOFFSETFROM:+0200
TZOFFSETTO:+0100
TZNAME:CET
DTSTART:19701025T030000
RRULE:FREQ=YEARLY;BYMONTH=10;BYDAY=-1SU
END:STANDARD
END:VTIMEZONE
BEGIN:VEVENT
UID:2485226:Event:2495380
DTSTAMP:20260421T050349Z
SUMMARY:l'âme, source de l'éveil
DESCRIPTION:Rencontre échanges avec la Rose Croix d'Or sur le thème 
 : L'ÂME, SOURCE DE L'EVEIL\nLes conceptions si diverses de l'âme se 
 traduisent dans des oeuvres d'art, des légendes, des images qui sont 
 autant de symboles des réalités invisibles, agissant en l'homme. Mai
 s en sommes-nous conscients ?\nSerions-nous endormis, alors que l'on n
 e cesse de parler d'éveil ? Quelle est la dimension de notre Âme qui
  a besoin de s'éveiller ?\nComment ?\n\"Mon âme regarde vers les mon
 tagnes d'où me viendra le secours\" Psaumes\n(participation 5€, dem
 andeurs d'emploi, étudiants 2€)\n\nPour plus d'information, aller s
 ur https://epanews.fr/events/rencontre-et-changes-avec-la-rose-croix-d
 -or
DTSTART;TZID=Europe/Paris:20151208T200000
DTEND;TZID=Europe/Paris:20151208T223000
CATEGORIES:85
LOCATION:Kyriad hôtel
WEBSITE:http://www.rose-croix-d-or.org/rencontres
URL:http://www.rose-croix-d-or.org/rencontres
CONTACT:0660059797
ORGANIZER;CN=RoseCroix:https://epanews.fr/profile/RoseCroix
ATTACH;FMTTYPE="image/jpeg":http://storage.ning.com/topology/rest/1.0/
 file/get/1663492009?profile=original
ATTENDEE;ROLE=REQ-PARTICIPANT;PARTSTAT=ACCEPTED;RSVP=TRUE;CN=RoseCroix
 :https://epanews.fr/profile/RoseCroix
END:VEVENT
END:VCALENDAR
