BEGIN:VCALENDAR
PRODID:NingEventWidget-v1
VERSION:2.0
METHOD:PUBLISH
BEGIN:VTIMEZONE
TZID:Europe/Paris
X-LIC-LOCATION:Europe/Paris
BEGIN:DAYLIGHT
TZOFFSETFROM:+0100
TZOFFSETTO:+0200
TZNAME:CEST
DTSTART:19700329T020000
RRULE:FREQ=YEARLY;BYMONTH=3;BYDAY=-1SU
END:DAYLIGHT
BEGIN:STANDARD
TZOFFSETFROM:+0200
TZOFFSETTO:+0100
TZNAME:CET
DTSTART:19701025T030000
RRULE:FREQ=YEARLY;BYMONTH=10;BYDAY=-1SU
END:STANDARD
END:VTIMEZONE
BEGIN:VEVENT
UID:2485226:Event:2723522
DTSTAMP:20260423T031155Z
SUMMARY:Rencontre du Duo Ishtar et de la danseuse Imayane
DESCRIPTION:Rencontre du duo Ishtar et de la danseuse Imayane  Les deu
 x jeunes musiciennes d'Ishtar parcourent les chemins du Monde accompag
 nées des soixante-dix neuf cordes (dés)orientées de la harpe celtiq
 ue, de la mandole, du oud, du cistre médiéval et du rabab afghan.   
 Leur voyage commence en Irlande, au cœur des racines celtes pour les 
 emmener ensuite sur les routes de l'Europe Occidentale, de la Bretagne
  à la Méditerranée jusqu'aux Balkans. La musique devient alors un l
 ien, un fil rouge entre les peuples.  Leur répertoire recoupe celui d
 e la danseuse Imayane. C'est donc tout naturellement que l'idée du co
 ncert dansé et de la rencontre entre l'univers des musiciennes et de 
 la danseuse sont nés pour un voyage plein de douceur et de poésie.  
 PAF: 12€ Réservation de places et infos: imayanedanse@gmail.com\n\n
 Pour plus d'information, aller sur https://epanews.fr/events/rencontre
 -du-duo-ishtar-et-de-la-danseuse-imayane
DTSTART;TZID=Europe/Paris:20161009T180000
DTEND;TZID=Europe/Paris:20161009T200000
CATEGORIES:69
LOCATION:Centre Culturel Artesya
WEBSITE:
URL:
CONTACT:
ORGANIZER;CN=chatmallow:https://epanews.fr/profile/chatmallow
ATTACH;FMTTYPE="image/jpeg":
ATTENDEE;ROLE=REQ-PARTICIPANT;PARTSTAT=ACCEPTED;RSVP=TRUE;CN=chatmallo
 w:https://epanews.fr/profile/chatmallow
END:VEVENT
END:VCALENDAR
