BEGIN:VCALENDAR
PRODID:NingEventWidget-v1
VERSION:2.0
METHOD:PUBLISH
BEGIN:VTIMEZONE
TZID:Europe/Paris
X-LIC-LOCATION:Europe/Paris
BEGIN:DAYLIGHT
TZOFFSETFROM:+0100
TZOFFSETTO:+0200
TZNAME:CEST
DTSTART:19700329T020000
RRULE:FREQ=YEARLY;BYMONTH=3;BYDAY=-1SU
END:DAYLIGHT
BEGIN:STANDARD
TZOFFSETFROM:+0200
TZOFFSETTO:+0100
TZNAME:CET
DTSTART:19701025T030000
RRULE:FREQ=YEARLY;BYMONTH=10;BYDAY=-1SU
END:STANDARD
END:VTIMEZONE
BEGIN:VEVENT
UID:2485226:Event:2566829
DTSTAMP:20260422T181756Z
SUMMARY:Rencontre Coeur de Femme - GuÃ©rir la petite fille blessÃ©e
DESCRIPTION:RENCONTRE COEUR DE FEMME, EVEIL DE LA FEMME PAR LA VOIE CH
 AMANIQUE\nGUÃ‰RIR LA PETITE FILLE BLESSÃ‰E\nJe suis nÃ©e en Ã©tat d'in
 nocence. Je vivais dans l'intemporalitÃ©, en lien direct avec la Sourc
 e d'Amour. Puis du fait de l'hÃ©rÃ©ditÃ© et des habitudes, je suis pas
 sÃ©e au monde des heures, des jours, des annÃ©es, du silence intÃ©rieu
 r Ã  l'agitation extÃ©rieure, du sentiment d'unitÃ© Ã  celui de la sÃ©
 paration. J'ai dÃ©couvert la souffrance.Â Mais en fait, malgrÃ© la nai
 ssance de l'ego et son pouvoir sur mes pensÃ©es et mes actions, malgrÃ
 © mes expÃ©riences de vie et mes souvenirs, l'innocence est restÃ©e in
 tacte, dans son Ã©tat de puretÃ© originel, que j'ai oubliÃ©.\nC'est ce
 tÂ Ã©tat d'innocenceÂ que nous allons reconnecter durant cette rencont
 re afin de vibrer et guÃ©rir les Ã©motions de la petite fille blessÃ©e
 . Nous lui accorderons toute l'Ã©coute et l'attentionÂ dont elle a tan
 t besoin, nous rÃ©veillerons sonÂ gout de laÂ curiositÃ©Â etÂ le sens 
 de l'Ã©merveillementÂ et lui apporterons le sentiment de vivre dans la
 Â paix, laÂ sÃ©curitÃ©Â et laÂ suretÃ© d'Ãªtre aimÃ©e et dÃ©sirÃ©e.Â \
 nN'hÃ©sitez-pas Ã  me contacter pour plus d'infosÂ http://www.lavagued
 evie.net/coeur-de-femme.html\n\n\nPour plus d'information, aller sur h
 ttps://epanews.fr/events/rencontre-coeur-de-femme
DTSTART;TZID=Europe/Paris:20160729T180000
DTEND;TZID=Europe/Paris:20160731T160000
CATEGORIES:95
LOCATION:Auberge de Villarceaux
WEBSITE:http://www.lavaguedevie.net/coeur-de-femme.html
URL:http://www.lavaguedevie.net/coeur-de-femme.html
CONTACT:0683252454
ORGANIZER;CN=shamandra:https://epanews.fr/profile/shamandra
ATTACH;FMTTYPE="image/jpeg":http://storage.ning.com/topology/rest/1.0/
 file/get/1663588979?profile=original
ATTENDEE;ROLE=REQ-PARTICIPANT;PARTSTAT=ACCEPTED;RSVP=TRUE;CN=shamandra
 :https://epanews.fr/profile/shamandra
END:VEVENT
END:VCALENDAR
