BEGIN:VCALENDAR
PRODID:NingEventWidget-v1
VERSION:2.0
METHOD:PUBLISH
BEGIN:VTIMEZONE
TZID:Europe/Paris
X-LIC-LOCATION:Europe/Paris
BEGIN:DAYLIGHT
TZOFFSETFROM:+0100
TZOFFSETTO:+0200
TZNAME:CEST
DTSTART:19700329T020000
RRULE:FREQ=YEARLY;BYMONTH=3;BYDAY=-1SU
END:DAYLIGHT
BEGIN:STANDARD
TZOFFSETFROM:+0200
TZOFFSETTO:+0100
TZNAME:CET
DTSTART:19701025T030000
RRULE:FREQ=YEARLY;BYMONTH=10;BYDAY=-1SU
END:STANDARD
END:VTIMEZONE
BEGIN:VEVENT
UID:2485226:Event:2750185
DTSTAMP:20260421T084130Z
SUMMARY:Rencontre Coeur de Femme - Rayonner la femme passionnée
DESCRIPTION:EVEIL DE LA FEMME PAR LA VOIE CHAMANIQUE\nLes rencontres C
 OEUR DE FEMME sont une voie de guérison et de révélation de soi vé
 cue au sein d'un cercle de femmes. Elles veulent répondre aux préocc
 upations de notre époque et proposent des ateliers adaptés à l'épa
 nouissement des femmes actuelles. Thématique de la rencontre -Une fem
 me qui a réussi à guérir ses anciennes blessures et à dépasser se
 s angoisses va ressentir l'envie débordante d'extérioriser ses inten
 tions de liberté, de réalisation personnelle. Elle devient femme pas
 sionnée\nN'hésitez-pas à me contacter pour plus d'infos http://www
 .lavaguedevie.net/coeur-de-femme.html\n\n\nPour plus d'information, al
 ler sur https://epanews.fr/events/rencontre-coeur-de-femme-rayonner-la
 -femme-passionn-e
DTSTART;TZID=Europe/Paris:20170210T180000
DTEND;TZID=Europe/Paris:20170212T160000
CATEGORIES:95
LOCATION:Auberge de Villarceaux
WEBSITE:http://www.lavaguedevie.net/coeur-de-femme.html
URL:http://www.lavaguedevie.net/coeur-de-femme.html
CONTACT:0683252454
ORGANIZER;CN=shamandra:https://epanews.fr/profile/shamandra
ATTACH;FMTTYPE="image/jpeg":http://storage.ning.com/topology/rest/1.0/
 file/get/1663624128?profile=original
ATTENDEE;ROLE=REQ-PARTICIPANT;PARTSTAT=ACCEPTED;RSVP=TRUE;CN=shamandra
 :https://epanews.fr/profile/shamandra
END:VEVENT
END:VCALENDAR
