BEGIN:VCALENDAR
PRODID:NingEventWidget-v1
VERSION:2.0
METHOD:PUBLISH
BEGIN:VTIMEZONE
TZID:Europe/Paris
X-LIC-LOCATION:Europe/Paris
BEGIN:DAYLIGHT
TZOFFSETFROM:+0100
TZOFFSETTO:+0200
TZNAME:CEST
DTSTART:19700329T020000
RRULE:FREQ=YEARLY;BYMONTH=3;BYDAY=-1SU
END:DAYLIGHT
BEGIN:STANDARD
TZOFFSETFROM:+0200
TZOFFSETTO:+0100
TZNAME:CET
DTSTART:19701025T030000
RRULE:FREQ=YEARLY;BYMONTH=10;BYDAY=-1SU
END:STANDARD
END:VTIMEZONE
BEGIN:VEVENT
UID:2485226:Event:2570346
DTSTAMP:20260421T090541Z
SUMMARY:rencontre chamanique au pays de l'homme .
DESCRIPTION:festival chamanique .\n\nPour plus d'information, aller su
 r https://epanews.fr/events/rencontre-chamanique-au-pays-de-l-homme-1
DTSTART;TZID=Europe/Paris:20160602T100000
DTEND;TZID=Europe/Paris:20160605T143000
CATEGORIES:24
LOCATION:Fonroque
WEBSITE:http://-www.campingloutuquet.fr
URL:http://-www.campingloutuquet.fr
CONTACT:06.85182301
ORGANIZER:Olivier BAGARD
ATTACH;FMTTYPE="image/jpeg":
ATTENDEE;ROLE=REQ-PARTICIPANT;PARTSTAT=ACCEPTED;RSVP=TRUE;CN=tytodom:h
 ttps://epanews.fr/profile/domi200
ATTENDEE;ROLE=REQ-PARTICIPANT;PARTSTAT=TENTATIVE;RSVP=TRUE;CN=Choupine
 tte:https://epanews.fr/profile/Choupinette189
ATTENDEE;ROLE=REQ-PARTICIPANT;PARTSTAT=TENTATIVE;RSVP=TRUE;CN="THERAPY
  BIEN ETRE":https://epanews.fr/profile/cristalviolet
END:VEVENT
END:VCALENDAR
