BEGIN:VCALENDAR
PRODID:NingEventWidget-v1
VERSION:2.0
METHOD:PUBLISH
BEGIN:VTIMEZONE
TZID:Europe/Paris
X-LIC-LOCATION:Europe/Paris
BEGIN:DAYLIGHT
TZOFFSETFROM:+0100
TZOFFSETTO:+0200
TZNAME:CEST
DTSTART:19700329T020000
RRULE:FREQ=YEARLY;BYMONTH=3;BYDAY=-1SU
END:DAYLIGHT
BEGIN:STANDARD
TZOFFSETFROM:+0200
TZOFFSETTO:+0100
TZNAME:CET
DTSTART:19701025T030000
RRULE:FREQ=YEARLY;BYMONTH=10;BYDAY=-1SU
END:STANDARD
END:VTIMEZONE
BEGIN:VEVENT
UID:2485226:Event:55254
DTSTAMP:20260420T054455Z
SUMMARY:Rencontre CERCLES des FEES du MONDE
DESCRIPTION:Féminin Eclairé Engagé Sacré\". ASCENCION .Rencontre p
 artage autour de la Charte des \"Cercles desFEES du MONDE\", chez Meen
 a COMPAGNON en Lubéron. Pratique méditative, créativité. Laisser E
 merger le féminin pour créer l'Alliance avec le masculin et sortir d
 es dualités yin yang. Se mettre au service de la Terre et de la Vie p
 ar la méditation en action. (Article Soleil levant: http://www.soleil
 -levant.org/presse/article.php3?id_article=512 ) En savoir plus, s'ins
 crire: contact@feesdumonde.com\n\nPour plus d'information, aller sur h
 ttps://epanews.fr/events/rencontre-cercles-des-fees-du
DTSTART;TZID=Europe/Paris:20100513T000000
DTEND;TZID=Europe/Paris:20100513T235900
CATEGORIES:tous
LOCATION:LUBERON, VAUCLUSE
WEBSITE:
URL:
CONTACT:0033687381759
ORGANIZER;CN="COMPAGNON Meena":https://epanews.fr/profile/COMPAGNONMee
 na
ATTACH;FMTTYPE="image/jpeg":http://storage.ning.com/topology/rest/1.0/
 file/get/1662295977?profile=original
ATTENDEE;ROLE=REQ-PARTICIPANT;PARTSTAT=ACCEPTED;RSVP=TRUE;CN="COMPAGNO
 N Meena":https://epanews.fr/profile/COMPAGNONMeena
END:VEVENT
END:VCALENDAR
