BEGIN:VCALENDAR
PRODID:NingEventWidget-v1
VERSION:2.0
METHOD:PUBLISH
BEGIN:VTIMEZONE
TZID:Europe/Paris
X-LIC-LOCATION:Europe/Paris
BEGIN:DAYLIGHT
TZOFFSETFROM:+0100
TZOFFSETTO:+0200
TZNAME:CEST
DTSTART:19700329T020000
RRULE:FREQ=YEARLY;BYMONTH=3;BYDAY=-1SU
END:DAYLIGHT
BEGIN:STANDARD
TZOFFSETFROM:+0200
TZOFFSETTO:+0100
TZNAME:CET
DTSTART:19701025T030000
RRULE:FREQ=YEARLY;BYMONTH=10;BYDAY=-1SU
END:STANDARD
END:VTIMEZONE
BEGIN:VEVENT
UID:2485226:Event:1122928
DTSTAMP:20260422T112551Z
SUMMARY:Rencontre avec soi et entrainement Ã  la pleine conscience dan
 s son quotidien
DESCRIPTION:Atelier convivial ouvert Ã  toute personne dÃ©sirant mieux
  se connaÃ®tre et cherchant Ã  rÃ©pondre aux questions existentielles 
 de la vie.\nCet atelier n'est liÃ© Ã  aucune religion ni courants de p
 ensÃ©e particuliers, il\ns'inspire des diffÃ©rentes connaissances, et 
 pratiques que j ai observÃ© puis\nexpÃ©rimentÃ© tout au long de ma vie
  dans une recherche de vÃ©ritÃ© et de\nlibertÃ©.\nCes ateliers consist
 eront dans un premiers temps Ã  explorer un thÃ¨me Ã  fond/ LE SUGET D
 E CET ATELIER SERA/L EVEIL DE NOTRE MERKABA\npuis dans un deuxiÃ¨me te
 mps Ã  pratiquer une\nmÃ©ditation axÃ©e sur le thÃ¨me, dans un troisiÃ
 ¨me temps Ã  Ã©changer sur\nl'expÃ©rience vÃ©cu.\nLe focus durant tous
  ces ateliers sera sur\nl'ouverture de cÅ“ur et la conscience en actio
 n\ndans ce qui est senti, dit, vÃ©cu.\nAteliers mÃ©ditatifs animÃ© par
  Christophe ITIER\nFormateur en EnnÃ©agramme.ConfÃ©rencier.\nEnseignan
 t dans de nombreuses disciplines\nsensitives,corporelles,mÃ©ditatives.
 \nAuteur de contes initiatiques.\nPARTICIPATION 10 â‚¬\n\nPour plus d'
 information, aller sur https://epanews.fr/events/rencontre-avec-soi-et
 -entrainement-la-pleine-conscience-dans-son
DTSTART;TZID=Europe/Paris:20130124T193000
DTEND;TZID=Europe/Paris:20130124T213000
CATEGORIES:31
LOCATION:toulouse
WEBSITE:
URL:
CONTACT:0689604147
ORGANIZER;CN="itier christophe":https://epanews.fr/profile/itierchrist
 ophe
ATTACH;FMTTYPE="image/jpeg":http://storage.ning.com/topology/rest/1.0/
 file/get/1662736705?profile=original
ATTENDEE;ROLE=REQ-PARTICIPANT;PARTSTAT=ACCEPTED;RSVP=TRUE;CN="itier ch
 ristophe":https://epanews.fr/profile/itierchristophe
END:VEVENT
END:VCALENDAR
