BEGIN:VCALENDAR
PRODID:NingEventWidget-v1
VERSION:2.0
METHOD:PUBLISH
BEGIN:VTIMEZONE
TZID:Europe/Paris
X-LIC-LOCATION:Europe/Paris
BEGIN:DAYLIGHT
TZOFFSETFROM:+0100
TZOFFSETTO:+0200
TZNAME:CEST
DTSTART:19700329T020000
RRULE:FREQ=YEARLY;BYMONTH=3;BYDAY=-1SU
END:DAYLIGHT
BEGIN:STANDARD
TZOFFSETFROM:+0200
TZOFFSETTO:+0100
TZNAME:CET
DTSTART:19701025T030000
RRULE:FREQ=YEARLY;BYMONTH=10;BYDAY=-1SU
END:STANDARD
END:VTIMEZONE
BEGIN:VEVENT
UID:2485226:Event:519252
DTSTAMP:20260422T205015Z
SUMMARY:Tantra couples - stage COMPLET
DESCRIPTION:Stage Tantra destiné aux couples engagés dans la vie et 
 aux couples tantriques*. (*voir sur le site www.terrestantriques.org)\
 nEtre authentique avec l'autre en étant honnête avec soi-même.\nAcc
 ueillir l'autre en restant au contact de soi.\nRéveiller le désir, l
 'envie d'avoir du désir...\nMettre de la verticalité dans la relatio
 n, et favoriser des moments choisis qui échappent aux contingences.\n
 Comment ?\nen retrouvant une parole d'intime sur soi avec l'autre.\nen
  osant dévoiler sa vulnérabilité à soi-même et à son partenaire.
 \nen faisant mieux circuler l'énergie entre les membres du couple.\ne
 n explorant des territoires inconnus qui relient la sexualité à la s
 piritualité.\n\nLes couples, vous êtes vraiment bienvenus ici pour a
 pprofondir votre lien et donner un souffle de vie à votre relation.\n
 Ce stage est proposé en pension complète sur 3 jours : pour un coupl
 e, 620 euros tout compris.\nLieu : Grillon (84) à 30 Km de Montélima
 r\n \n\nPour plus d'information, aller sur https://epanews.fr/events/
 rencontre-avec-le-tantra-5
DTSTART;TZID=Europe/Paris:20111014T110000
DTEND;TZID=Europe/Paris:20111016T170000
CATEGORIES:tous
LOCATION:Avignon
WEBSITE:http://www.terrestantriques.org
URL:http://www.terrestantriques.org
CONTACT:0475537164 - 0664273147
ORGANIZER:Dominique GIRAL et Odile Guillet
ATTACH;FMTTYPE="image/jpeg":http://storage.ning.com/topology/rest/1.0/
 file/get/1662457998?profile=original
ATTENDEE;ROLE=REQ-PARTICIPANT;PARTSTAT=ACCEPTED;RSVP=TRUE;CN="Dominiqu
 e Giral":https://epanews.fr/profile/dominique
END:VEVENT
END:VCALENDAR
