BEGIN:VCALENDAR
PRODID:NingEventWidget-v1
VERSION:2.0
METHOD:PUBLISH
BEGIN:VTIMEZONE
TZID:Europe/Paris
X-LIC-LOCATION:Europe/Paris
BEGIN:DAYLIGHT
TZOFFSETFROM:+0100
TZOFFSETTO:+0200
TZNAME:CEST
DTSTART:19700329T020000
RRULE:FREQ=YEARLY;BYMONTH=3;BYDAY=-1SU
END:DAYLIGHT
BEGIN:STANDARD
TZOFFSETFROM:+0200
TZOFFSETTO:+0100
TZNAME:CET
DTSTART:19701025T030000
RRULE:FREQ=YEARLY;BYMONTH=10;BYDAY=-1SU
END:STANDARD
END:VTIMEZONE
BEGIN:VEVENT
UID:2485226:Event:477199
DTSTAMP:20260423T052350Z
SUMMARY:Rencontre et MÃ©ditation avec le moine Gojo Ã  Marseille
DESCRIPTION:MÃ©ditation et non-dualitÃ© DÃ©couverte de la PrÃ©sence CÃ
 ©lÃ©bration de la Conscience\nhttp://approchenondualite.blogspot.com/\
 nÂ  - dimanche 4 dÃ©cembre 2011\nde 10 h Ã  12 h et de 14 h 30 Ã  17 h
 .\nLieu : Espace LumiÃ¨re\n38 Bd PÃ©rier\n13008 Marseille\nMÃ©tro : PÃ
 ©rier\nhttp://www.lumebe.com/lieu.html Â \nParticipation : 30 euros\nC
 ontact : ericleroy@neuf.fr\nPrÃ©sentation :\nLa non-dualitÃ© est au cÅ
 “ur de la plupart des grandes traditions spirituelles.\nElle signifie 
 dÃ©couvrir le cÅ“ur, lâ€™essence, notre vÃ©ritable nature,\nnotre visa
 ge originel ou le Soi.\nLorsque cela se dÃ©voile et devient notre expÃ
 ©rience,\nnous rÃ©alisons que la Conscience est ce que nous sommes\net
  quâ€™elle est le point commun qui unit tous les Ãªtres.\nLa joie sans
  cause, la paix heureuse, lâ€™amour vÃ©ritable en sont le parfum.\nLe 
 sentiment dâ€™Ãªtre une entitÃ© personnelle et sÃ©parÃ©e sâ€™efface,\n
 nous laissant dans la lumineuse prÃ©sence de la Conscience.\nLe couran
 t liÃ© Ã  la voie non-duelle prÃ©sentÃ© ici comporte quatre grands asp
 ects :\n- La mÃ©ditation qui est le dÃ©voilement de notre nature origi
 nelle, pure Conscience.\n- Les dialogues qui permettent dâ€™Ã©clairer 
 les doutes et dâ€™approfondir la comprÃ©hension.\n- Lâ€™approche corpo
 relle qui explore le corps dans son essence sensorielle,\nlibÃ¨re les 
 tensions issues de lâ€™ignorance et intÃ¨gre le corps Ã  la voie.\n- L
 a vie quotidienne en tant que cÃ©lÃ©bration de ce que nous sommes vrai
 ment.\nLors de ce week-end, ces diffÃ©rents aspects seront abordÃ©s, p
 ermettant Ã  chacun\nde dÃ©couvrir la douceur du parfum de la conscien
 ce, ce que nous sommes.\nLe moine Gojo (P.M.) a longuement frÃ©quentÃ©
  les traditions spirituelles de lâ€™Orient,\nlaissant progressivement 
 se dÃ©pouiller en lui toute expression rigide ou sectaire.\nLibrement,
  lâ€™essentiel se dÃ©ploie sans attachement Ã  la personne ou au conte
 xte.\nVoir le site : http://approchenondualite.blogspot.com/\n\n\n\n\n
 Pour plus d'information, aller sur https://epanews.fr/events/rencontre
 -avec-le-moine-gojo-marseille-1
DTSTART;TZID=Europe/Paris:20111204T000000
DTEND;TZID=Europe/Paris:20111204T235900
CATEGORIES:13
LOCATION:Marseille
WEBSITE:http://approchenondualite.blogspot.com/
URL:http://approchenondualite.blogspot.com/
CONTACT:Contact :  ericleroy@neuf.fr
ORGANIZER;CN=Prajna13:https://epanews.fr/profile/prajna13
ATTACH;FMTTYPE="image/jpeg":http://storage.ning.com/topology/rest/1.0/
 file/get/1662448818?profile=original
ATTENDEE;ROLE=REQ-PARTICIPANT;PARTSTAT=ACCEPTED;RSVP=TRUE;CN=Prajna13:
 https://epanews.fr/profile/prajna13
END:VEVENT
END:VCALENDAR
