BEGIN:VCALENDAR
PRODID:NingEventWidget-v1
VERSION:2.0
METHOD:PUBLISH
BEGIN:VTIMEZONE
TZID:Europe/Paris
X-LIC-LOCATION:Europe/Paris
BEGIN:DAYLIGHT
TZOFFSETFROM:+0100
TZOFFSETTO:+0200
TZNAME:CEST
DTSTART:19700329T020000
RRULE:FREQ=YEARLY;BYMONTH=3;BYDAY=-1SU
END:DAYLIGHT
BEGIN:STANDARD
TZOFFSETFROM:+0200
TZOFFSETTO:+0100
TZNAME:CET
DTSTART:19701025T030000
RRULE:FREQ=YEARLY;BYMONTH=10;BYDAY=-1SU
END:STANDARD
END:VTIMEZONE
BEGIN:VEVENT
UID:2485226:Event:2551981
DTSTAMP:20260421T152235Z
SUMMARY:rencontre avec le dialogue créatif le dimanche 24 janvier a s
 ète
DESCRIPTION:Rencontre autour du dialogue créatif\n  Découvrir le Di
 alogue et le pratiquer\n \n         référence philosophique
  :\n \n          J- Krishnamurti -et David bohm\n \n Atten
 tion : important : sortie faite pour ceux qui aiment  la non-dualité
  -\n \n \n \n  inscription et adresse : par téléphone :\n \n09 
 64 28 20 88  - et  sur le site aussi -\n \n \n          
                              introduction 
 :\n \nPar les médias, le web, la télé , nos livres , nos maîtres 
 à penser , nous sommes au\n \ncourant de ce qui se passe au quatre c
 oins du monde. Toutes ces informations\n \nconstruisent , modifient ,
  ou change notre vision du monde et de nous mêmes -\n \nquand nous d
 iscutons avec les autres , quand nous pensons , réfléchissons , la\n
  \npensée nous conditionne , ainsi que celle des autres . Mais savon
 s nous ce qui se\n \npasse réellement dans notre tête ? -\n \npouv
 ons nous communiquer autrement qu'en échangeant des informations\n \
 nprovenant la  plupart du temps de source incertaine? ou autrement qu
 'en buttant\n \nsur les idées  préconçues de nos opinions bloqué
 es?  Pouvons nous découvrir des\n \nespaces nouveaux , où le momen
 t présent puisse se révéler à nous ?\n\nPour plus d'information, a
 ller sur https://epanews.fr/events/rencontre-avec-le-dialogue-cr-atif-
 le-dimanche-24-janvier-a-s-te
DTSTART;TZID=Europe/Paris:20160124T153000
DTEND;TZID=Europe/Paris:20160124T163000
CATEGORIES:34
LOCATION:hérault 34
WEBSITE:
URL:
CONTACT:
ORGANIZER;CN=ainsoph:https://epanews.fr/profile/ainsoph
ATTACH;FMTTYPE="image/jpeg":http://storage.ning.com/topology/rest/1.0/
 file/get/1663515214?profile=original
ATTENDEE;ROLE=REQ-PARTICIPANT;PARTSTAT=ACCEPTED;RSVP=TRUE;CN=ainsoph:h
 ttps://epanews.fr/profile/ainsoph
END:VEVENT
END:VCALENDAR
