BEGIN:VCALENDAR
PRODID:NingEventWidget-v1
VERSION:2.0
METHOD:PUBLISH
BEGIN:VTIMEZONE
TZID:Europe/Paris
X-LIC-LOCATION:Europe/Paris
BEGIN:DAYLIGHT
TZOFFSETFROM:+0100
TZOFFSETTO:+0200
TZNAME:CEST
DTSTART:19700329T020000
RRULE:FREQ=YEARLY;BYMONTH=3;BYDAY=-1SU
END:DAYLIGHT
BEGIN:STANDARD
TZOFFSETFROM:+0200
TZOFFSETTO:+0100
TZNAME:CET
DTSTART:19701025T030000
RRULE:FREQ=YEARLY;BYMONTH=10;BYDAY=-1SU
END:STANDARD
END:VTIMEZONE
BEGIN:VEVENT
UID:2485226:Event:15084
DTSTAMP:20260421T113154Z
SUMMARY:Rencontre avec l'amitiÃ© ou l'Ã¢me soeur !
DESCRIPTION:Le monde Ã©volue, nous aussi et dans cette grande mutation
  qu'est l'univers aujourd'hui, nous avons besoin de nous retrouver, au
 trement .\n\nC'est pourquoi j'ai mis en place ces rencontres, sur un w
 eek end ou sur une semaine, dans un lieu d'une grande beautÃ© et qui v
 a nous permettre de nous ressourcer, simplement parce qu'il est ... ma
 gique !\n\nVous y dÃ©couvrirez un oeuf en cuivre oÃ¹ vous pourrez expÃ
 ©rimenter la force de l'Ã©nergie\n\n> > Des chambres Ã©purÃ©es\n\n> > 
 Dans un calme absolu\n\n> > Et un lieu hors du temps ...\n\n\nLe derni
 er week end d'octobre\nPrÃ¨s de AUCH dans le GERS (32) Ã  environ 1 h 
 de toulouse, un week end de rencontre entre hommes et femmes\n\n2 jour
 nÃ©es dÃ©diÃ©es Ã  la vie au partage\n\nAu programme\nLes repas seront
  prÃ©parÃ©s ensemble (vÃ©gÃ©tariens)\nNous ferons une mÃ©ditation pour
  la planÃ¨te\nNous partagerons une soirÃ©e musique et danse dans nos p
 lus beaux habits\n\nPuis un petit dÃ©j bio et dÃ©licieux\n\nEt dans ce
 s temps oÃ¹ la planÃ¨te a tant besoin de nos forces communes,\n\nEchan
 geons sur nos trÃ©sors nos projets nos attentes ...\n\nNous pourrons a
 ussi vous promener dans le parc\n\nEt ... que sais-je encore ?\nLaisso
 ns la place Ã  l'imprÃ©vu !\n\nJe limite ces 2 journÃ©es Ã  30 personn
 es\n15 hommes et 15 femmes\n\nC'EST UNE INVITATION AU REVE !\n\nle tar
 if\npour ceux qui dorment sur place 120 euros\npour les autres 80 euro
 s\n\nil y a 14 couchages d'un trÃ¨s grand confort\nles places sont trÃ
 ¨s limitÃ©es\n\nPour rÃ©server, il est nÃ©cessaire de m'adresser votre
  rÃ¨glement avant le 10 octobre (sera encaissÃ© fin octobre)\n\nDaniel
 le RENOUX 10 Rue Alem Rousseau 32000 AUCH\n\nJe compte ouvrir ces renc
 ontres dans toute la france, donc possibilitÃ© de co-voiturage\n\nUne 
 autre soirÃ©e est dÃ©jÃ  prÃ©vu pour le rÃ©veillon de l'annÃ©e 2010 oÃ
 ¹ nous pourrons Ãªtre plus nombreux encore\n\nN'hÃ©sitez pas Ã  m'appe
 ler pour toute info supplÃ©mentaire (j'accueille les idÃ©es !)\nDans l
 a paix et la joie du coeur\n\nDanielle RENOUX\n0617435070\n\nPour plus
  d'information, aller sur https://epanews.fr/events/rencontre-avec-lam
 itie-ou-lame
DTSTART;TZID=Europe/Paris:20091031T180000
DTEND;TZID=Europe/Paris:20091101T190000
CATEGORIES:32
LOCATION:RENCONTRE
WEBSITE:
URL:
CONTACT:0617435070
ORGANIZER:DANIELLE RENOUX
ATTACH;FMTTYPE="image/jpeg":
ATTENDEE;ROLE=REQ-PARTICIPANT;PARTSTAT=ACCEPTED;RSVP=TRUE;CN=danielle:
 https://epanews.fr/profile/RENOUX
ATTENDEE;ROLE=REQ-PARTICIPANT;PARTSTAT=TENTATIVE;RSVP=TRUE;CN="Mike Fr
 anceschi":https://epanews.fr/profile/MikeFranceschi
END:VEVENT
END:VCALENDAR
