BEGIN:VCALENDAR
PRODID:NingEventWidget-v1
VERSION:2.0
METHOD:PUBLISH
BEGIN:VTIMEZONE
TZID:Europe/Paris
X-LIC-LOCATION:Europe/Paris
BEGIN:DAYLIGHT
TZOFFSETFROM:+0100
TZOFFSETTO:+0200
TZNAME:CEST
DTSTART:19700329T020000
RRULE:FREQ=YEARLY;BYMONTH=3;BYDAY=-1SU
END:DAYLIGHT
BEGIN:STANDARD
TZOFFSETFROM:+0200
TZOFFSETTO:+0100
TZNAME:CET
DTSTART:19701025T030000
RRULE:FREQ=YEARLY;BYMONTH=10;BYDAY=-1SU
END:STANDARD
END:VTIMEZONE
BEGIN:VEVENT
UID:2485226:Event:383098
DTSTAMP:20260423T074311Z
SUMMARY:Rencontre avec la Rose Croix : La réincarnation , porte vers 
 l'éternité.
DESCRIPTION:Mardi 28 Juin 2011  à 20h - NICE, 5 AV. MALAUSSENA, SA
 LLE RESPIRE\nRENCONTRE AVEC LA ROSE-CROIX : LA REINCARNATION, PORTE VE
 RS L'ETERNITE\nDe nos jours la réincarnation est admise par de nombre
 uses personnes.  Mais de nombreuses questions se posent à ce sujet. *
  Quel est le but de la réincarnation ? * Est-il vrai que l'on s'amél
 iore de vie en vie ? * Est-ce la personnalité qui se réincarne ? Et 
 aussi : peut-on échapper à la réincarnation ? Si oui de quelle faç
 on ?\n \nEntré libre et gratuite\n\nPour plus d'information, aller s
 ur https://epanews.fr/events/rencontre-avec-la-rose-croix-1
DTSTART;TZID=Europe/Paris:20110628T200000
DTEND;TZID=Europe/Paris:20110628T221500
CATEGORIES:06
LOCATION:Nice
WEBSITE:http://toulon-nice.rose-croix-d-or.org/
URL:http://toulon-nice.rose-croix-d-or.org/
CONTACT:
ORGANIZER;CN="jean claude":https://epanews.fr/profile/Adamowski
ATTACH;FMTTYPE="image/jpeg":http://storage.ning.com/topology/rest/1.0/
 file/get/1662435243?profile=original
ATTENDEE;ROLE=REQ-PARTICIPANT;PARTSTAT=ACCEPTED;RSVP=TRUE;CN="jean cla
 ude":https://epanews.fr/profile/Adamowski
END:VEVENT
END:VCALENDAR
