BEGIN:VCALENDAR
PRODID:NingEventWidget-v1
VERSION:2.0
METHOD:PUBLISH
BEGIN:VTIMEZONE
TZID:Europe/Paris
X-LIC-LOCATION:Europe/Paris
BEGIN:DAYLIGHT
TZOFFSETFROM:+0100
TZOFFSETTO:+0200
TZNAME:CEST
DTSTART:19700329T020000
RRULE:FREQ=YEARLY;BYMONTH=3;BYDAY=-1SU
END:DAYLIGHT
BEGIN:STANDARD
TZOFFSETFROM:+0200
TZOFFSETTO:+0100
TZNAME:CET
DTSTART:19701025T030000
RRULE:FREQ=YEARLY;BYMONTH=10;BYDAY=-1SU
END:STANDARD
END:VTIMEZONE
BEGIN:VEVENT
UID:2485226:Event:1976714
DTSTAMP:20260423T190814Z
SUMMARY:Rencontre avec la Nature...
DESCRIPTION:Une balade pas comme les autresâ€¦ pour se connecter Ã  la
  Terre et aux Ã©lÃ©ments de la Nature afin de se relier au Soi.\nNous 
 vous proposons une journÃ©e en lien avec la Nature, dans la forÃªt du 
 CorsuetÂ :\n-Â Â Â Â Â Â Â  Le matinÂ :\nRendez-vous Ã  11h pour une m
 Ã©ditation de reconnexion â€“ ancrage Ã  la Terre.\nÂ \n-Â Â Â Â Â Â Â
   Le midiÂ :\nPique-nique repas partagÃ© (chacun apporte un plat salÃ©
  ou sucrÃ© et une boisson)\nÂ \n-Â Â Â Â Â Â Â  Lâ€™aprÃ¨s-midiÂ :\nDe
  14h Ã  17h\nNous irons Ã  la rencontre de la Nature, nous dÃ©velopper
 ons nos ressentis et nos perceptions intuitives, pour communiquer avec
  les arbres, les esprits de la forÃªt, le petit peuple, les plantes, l
 es pierresâ€¦\nDavid, formateur en communication avec les mondes subti
 ls de la Nature, nous guidera dans cette approche.\nEt si nous en avon
 s le temps, nous nous rendrons Ã©galement Ã  la Grotte aux FÃ©esâ€¦ y 
 verrons-nous les esprits de ce lieu si spÃ©cialÂ ?....\nÂ \nIntervenan
 t: David LANIER - Ã‰nergÃ©ticien et formateur en communication avec le
 s mondes subtils. - Scientifique de formation (D.E.A mathÃ©matiques ap
 pliquÃ©s)\nSite internet: http://www.ehmioh.com/\nTarifs:  - 20â‚¬ pou
 r les adhÃ©rents. - 25â‚¬ pour les non adhÃ©rents.  CoÃ»t de l'adhÃ©si
 on Ã  l'association: - 15â‚¬/an PrÃ©cision tarifaire concernant la ven
 ue d'enfants ou jeunes accompagnant leur(s) parent(s) Ã  cette RENCONT
 RE AVEC LA NATURE, en accord avec David Lanier, qui nous guidera dans 
 cette dÃ©couverte:  le tarif est - gratuit jusqu'Ã  8 ans, - 8 euros d
 e 8 Ã  16 ans, - normal Ã  partir de 16 ans (soit 20 euros si le jeune
  vient avec un parent adhÃ©rent, 25 euros s'il vient avec un parent no
 n adhÃ©rent). Merci Ã  vous d'en tenir compte lorsque vous complÃ¨tere
 z et renverrez votre bulletin d'inscription\nÂ \nPrÃ©voirÂ :\n-Â Â Â Â
  Â Â Â  Une tenue dÃ©contractÃ©e, souple et confortable, de bonnes cha
 ussures pour marcherÂ ;\n-Â Â Â Â Â Â Â  Le pique-nique partagÃ©Â ; sa
 ns oublier une grande bouteille dâ€™eau et de quoi vous asseoir confor
 tablement pour dÃ©jeunerÂ ;\n-Â Â Â Â Â Â Â  Chapeau, lunettes et crÃ¨
 me solaireâ€¦ sâ€™il fait trÃ¨s chaudÂ !\n-Â Â Â Â Â Â Â  Lampe de poc
 he ou frontale.\nÂ \nUn co-voiturage sera organisÃ© entre les particip
 ants inscrits.\nBulletin d'inscription tÃ©lÃ©chargeable sur le site de
  l'association ENERGENCIEL, ou sur demande par tÃ©lÃ©phone ou mail: 07
 .81.088.555 - energenciel@gmail.com\n\n\nPour plus d'information, alle
 r sur https://epanews.fr/events/rencontre-avec-la-nature-1
DTSTART;TZID=Europe/Paris:20140803T110000
DTEND;TZID=Europe/Paris:20140803T170000
CATEGORIES:73
LOCATION:ForÃªt du Corsuet (au-dessus d'Aix les Bains)
WEBSITE:http://energenciel.wix.com/energenciel-asso
URL:http://energenciel.wix.com/energenciel-asso
CONTACT:07.81.088.555
ORGANIZER:Association ENERGENCIEL
ATTACH;FMTTYPE="image/jpeg":http://storage.ning.com/topology/rest/1.0/
 file/get/1663174209?profile=original
ATTENDEE;ROLE=REQ-PARTICIPANT;PARTSTAT=ACCEPTED;RSVP=TRUE;CN=catherine
 :https://epanews.fr/profile/catherine79
END:VEVENT
END:VCALENDAR
