BEGIN:VCALENDAR
PRODID:NingEventWidget-v1
VERSION:2.0
METHOD:PUBLISH
BEGIN:VTIMEZONE
TZID:Europe/Paris
X-LIC-LOCATION:Europe/Paris
BEGIN:DAYLIGHT
TZOFFSETFROM:+0100
TZOFFSETTO:+0200
TZNAME:CEST
DTSTART:19700329T020000
RRULE:FREQ=YEARLY;BYMONTH=3;BYDAY=-1SU
END:DAYLIGHT
BEGIN:STANDARD
TZOFFSETFROM:+0200
TZOFFSETTO:+0100
TZNAME:CET
DTSTART:19701025T030000
RRULE:FREQ=YEARLY;BYMONTH=10;BYDAY=-1SU
END:STANDARD
END:VTIMEZONE
BEGIN:VEVENT
UID:2485226:Event:201313
DTSTAMP:20260426T020732Z
SUMMARY:Rencontre avec Della
DESCRIPTION:Della a eu la chance de grandir dans un environnement aima
 nt.  Depuis toute jeune, elle s’est sentie choyée par la vie.  El
 le a étudié.  Elle a fondé une famille.  Elle est devenue médeci
 n et a exerçé aux urgences.\n Elle ne cherchait rien.  Elle n’av
 ait pas de croyance spirituelle.  Elle était heureuse.\nPuis en 2005
 , lors d’une séance d’hypnose, elle a vécu ce qui pourrait être
  décrit comme une expérience de mort imminente.  Elle a été touch
 ée au coeur par l’Unité et son Amour Inconditionnel.  Sa vie a al
 ors basculé.\n \nAvec cette Présence libre et aimante qui respirait
  en elle, tout de son identité « propre » a été remis en questi
 on.  Graduellement, elle n’a pu que s’abandonner à cette Réalit
 é que Nous sommes Un et qu’aucune étiquette, croyance ou connaissa
 nce n’est nécessaire pour Être.\n« L’Amour est là et s’offr
 e à nous de l’intérieur.\nIl attend les bras grands ouverts, avec 
 une infinie patience, que nous soyons prêts\nà nous y déposer humbl
 ement. »\nLe temps est-il venu de plonger dans l’abysse sans fond 
 de la Simplicité et du non-savoir ?\nSite de Della : www.dellainvita
 tion.com\nParticipation : 15 euros - aucun chèque accepté.\nNB : cet
 te soirée sera suivie d'ateliers le 23 et 24 juillet 2011, au Petit M
 as.\nhttp://sites.google.com/site/dellainvitationfr/calendrier-inscrip
 tion\n\nPour plus d'information, aller sur https://epanews.fr/events/r
 encontre-avec-della-1
DTSTART;TZID=Europe/Paris:20110722T190000
DTEND;TZID=Europe/Paris:20110722T210000
CATEGORIES:06
LOCATION:Nice
WEBSITE:http://www.lepetitmas.fr/plan_acces_petitmas.html
URL:http://www.lepetitmas.fr/plan_acces_petitmas.html
CONTACT:06 20 86 60 57 et 04 93 53 66 11 contact@lepetitmas.fr
ORGANIZER:Danièle Mencarelli
ATTACH;FMTTYPE="image/jpeg":http://storage.ning.com/topology/rest/1.0/
 file/get/1662387601?profile=original
ATTENDEE;ROLE=REQ-PARTICIPANT;PARTSTAT=ACCEPTED;RSVP=TRUE;CN=Prajna13:
 https://epanews.fr/profile/prajna13
END:VEVENT
END:VCALENDAR
