BEGIN:VCALENDAR
PRODID:NingEventWidget-v1
VERSION:2.0
METHOD:PUBLISH
BEGIN:VTIMEZONE
TZID:Europe/Paris
X-LIC-LOCATION:Europe/Paris
BEGIN:DAYLIGHT
TZOFFSETFROM:+0100
TZOFFSETTO:+0200
TZNAME:CEST
DTSTART:19700329T020000
RRULE:FREQ=YEARLY;BYMONTH=3;BYDAY=-1SU
END:DAYLIGHT
BEGIN:STANDARD
TZOFFSETFROM:+0200
TZOFFSETTO:+0100
TZNAME:CET
DTSTART:19701025T030000
RRULE:FREQ=YEARLY;BYMONTH=10;BYDAY=-1SU
END:STANDARD
END:VTIMEZONE
BEGIN:VEVENT
UID:2485226:Event:2275518
DTSTAMP:20260423T154102Z
SUMMARY:Rencontre avec Claudette Vidal
DESCRIPTION:Bonjour, je vous invite à découvrir ou revoir Claudette 
 Vidal, qui viendra sur Strasbourg afin de témoigner de son expérien
 ce de l'éveil et de nous présenter son nouveau livre \"voyage au coe
 ur de soi.  Au delà des stages et conférences ou elle intervient dan
 s le monde entier,Claudette a écrit un livre riche de ses témoignag
 es et de sa belle exprérience d'accompagnement vers l'éveil.  Sa con
 férence, qui est aussi un dialogue ouvert et une invitation à la joi
 e, se passera à l'hôtel\n                    Cap Eur
 ope Appart'Hotel - 6 rue de Bitche - 67000 Strasbourg \n Une particip
 ation de 10 euros sera demandée afin de satisfaire au coût de locati
 on de la salle. \nLes réservations se font auprès de Eric Sebbah\nfa
 millyseb@free.fr\nVous pouvez aussi consulter son site:\nhttp://www.ev
 eilspirituel.net/default.asp\n Voici quelques mots sur ce que Claudet
 te dit de son nouveau livre:   Portée par l'élan de son nouveau livr
 e VOYAGE AU COEUR DE SOI, Claudette offrira une rencontre sur l'un des
  thèmes qui s'y réfèrent. Elle dit : « Ce livre traite de l’Abso
 lu et du relatif, deux sujets qui me passionnent. S’il est évident 
 de partager avec vous la Conscience en tant que non-objet vide de cont
 enu, j’ai également le souhait de partager mon humanité avec toute
  ma vulnérabilité et ma sensibilité. Chaque point de vue révèle u
 ne facette importante de l’être humain et invite à d’innombrable
 s découvertes. L’Absolu et le relatif sont deux réalités différe
 ntes, mais pas opposées… et certainement pas séparées. Le Divin e
 t l’humain, l’Impersonnel et le personnel sont à jamais unis pour
  révéler l’infinie Beauté de l’expérience humaine. »  Les par
 tages dans l'espace du coeur sont des moments de rencontre où, sans b
 ut et sans thème prédéterminé, nous partageons l'instant présent.
  Dépouillé de tout désir et de toute volonté, nous nous rencontron
 s sur un terrain éternellement vierge, l'instant. Sans chercher à ac
 quérir quoique ce soit et sans volonté de résoudre des problèmes, 
 ensemble nous observons ce qui se passe. Des questions pourraient éme
 rger en vous... des enseignements pourraient me traverser... le Silenc
 e pourrait nous inviter à une rencontre intime...  La réalité quoti
 dienne n'est pas niée ou sublimée... juste rencontrée dans la prés
 ence aimante plutôt qu'à partir du mental. Dans l'ouverture et la di
 sponibilité, nous partageons la conscience.  Un satsang est une renco
 ntre avec une personne installée dans la présence.\n\nPour plus d'in
 formation, aller sur https://epanews.fr/events/rencontre-avec-claudett
 e-vidal
DTSTART;TZID=Europe/Paris:20150422T200000
DTEND;TZID=Europe/Paris:20150422T220000
CATEGORIES:67
LOCATION:Strasbourg
WEBSITE:
URL:
CONTACT:07 71 05 93 11
ORGANIZER;CN=eric:https://epanews.fr/profile/eric922
ATTACH;FMTTYPE="image/jpeg":http://storage.ning.com/topology/rest/1.0/
 file/get/1663362784?profile=original
ATTENDEE;ROLE=REQ-PARTICIPANT;PARTSTAT=ACCEPTED;RSVP=TRUE;CN=eric:http
 s://epanews.fr/profile/eric922
END:VEVENT
END:VCALENDAR
