BEGIN:VCALENDAR
PRODID:NingEventWidget-v1
VERSION:2.0
METHOD:PUBLISH
BEGIN:VTIMEZONE
TZID:Europe/Paris
X-LIC-LOCATION:Europe/Paris
BEGIN:DAYLIGHT
TZOFFSETFROM:+0100
TZOFFSETTO:+0200
TZNAME:CEST
DTSTART:19700329T020000
RRULE:FREQ=YEARLY;BYMONTH=3;BYDAY=-1SU
END:DAYLIGHT
BEGIN:STANDARD
TZOFFSETFROM:+0200
TZOFFSETTO:+0100
TZNAME:CET
DTSTART:19701025T030000
RRULE:FREQ=YEARLY;BYMONTH=10;BYDAY=-1SU
END:STANDARD
END:VTIMEZONE
BEGIN:VEVENT
UID:2485226:Event:2327513
DTSTAMP:20260425T051423Z
SUMMARY:Formation Praticien Accès Bars
DESCRIPTION:Christelle Renard\n5, rue des Aires 30660 Gallargues le Mo
 ntueux\nTel: 0661711347\nMail: christelle.renard69@orange.fr\n\nFormat
 ion Praticiens Accès Bars\n\nEn tant que Facilitatrice des Bars je pr
 opose 1 date de formation pour que vous deveniez Praticien des Bars.\
 n\nDates: Dimanche 14 Juin 2015\n \n\nPour tout renseignements ou ins
 cription veuillez me contacter aux coordonnées ci dessus.\n\nPour plu
 s d'information, aller sur https://epanews.fr/events/renard-christelle
DTSTART;TZID=Europe/Paris:20150614T000000
DTEND;TZID=Europe/Paris:20150614T235900
CATEGORIES:30
LOCATION:Gallargues le Montueux
WEBSITE:
URL:
CONTACT:0661711347
ORGANIZER;CN=Essentielle:https://epanews.fr/profile/Renard644
ATTACH;FMTTYPE="image/jpeg":http://storage.ning.com/topology/rest/1.0/
 file/get/1663397328?profile=original
ATTENDEE;ROLE=REQ-PARTICIPANT;PARTSTAT=ACCEPTED;RSVP=TRUE;CN=Essentiel
 le:https://epanews.fr/profile/Renard644
END:VEVENT
END:VCALENDAR
