BEGIN:VCALENDAR
PRODID:NingEventWidget-v1
VERSION:2.0
METHOD:PUBLISH
BEGIN:VTIMEZONE
TZID:Europe/Paris
X-LIC-LOCATION:Europe/Paris
BEGIN:DAYLIGHT
TZOFFSETFROM:+0100
TZOFFSETTO:+0200
TZNAME:CEST
DTSTART:19700329T020000
RRULE:FREQ=YEARLY;BYMONTH=3;BYDAY=-1SU
END:DAYLIGHT
BEGIN:STANDARD
TZOFFSETFROM:+0200
TZOFFSETTO:+0100
TZNAME:CET
DTSTART:19701025T030000
RRULE:FREQ=YEARLY;BYMONTH=10;BYDAY=-1SU
END:STANDARD
END:VTIMEZONE
BEGIN:VEVENT
UID:2485226:Event:979808
DTSTAMP:20260419T231013Z
SUMMARY:Remise des prix_Concours MyC Awards
DESCRIPTION:L'équipe MyContemporary et la galerie Myriam Bouagal vous
  invitent à la soirée de remise des prix du Concours MyC AWARDS, le 
 vendredi 19 Octobre 2012 à 19 heures à la galerie Myriam Bouagal en 
 présence des membres du jury.    Jacqueline FABBROjacqueline@mycon
 temporary.comTél : 09 51 85 72 61\n\nPour plus d'information, aller s
 ur https://epanews.fr/events/remise-des-prix-concours-myc-awards
DTSTART;TZID=Europe/Paris:20121019T190000
DTEND;TZID=Europe/Paris:20121019T220000
CATEGORIES:75
LOCATION:Galerie Myriam Bouagal
WEBSITE:http://www.myriambouagalgalerie.com/Contact
URL:http://www.myriambouagalgalerie.com/Contact
CONTACT:
ORGANIZER;CN="MyContemporary.com":https://epanews.fr/profile/MyContemp
 orarycom
ATTACH;FMTTYPE="image/jpeg":http://storage.ning.com/topology/rest/1.0/
 file/get/1662682190?profile=original
ATTENDEE;ROLE=REQ-PARTICIPANT;PARTSTAT=ACCEPTED;RSVP=TRUE;CN="MyContem
 porary.com":https://epanews.fr/profile/MyContemporarycom
END:VEVENT
END:VCALENDAR
