BEGIN:VCALENDAR
PRODID:NingEventWidget-v1
VERSION:2.0
METHOD:PUBLISH
BEGIN:VTIMEZONE
TZID:Europe/Paris
X-LIC-LOCATION:Europe/Paris
BEGIN:DAYLIGHT
TZOFFSETFROM:+0100
TZOFFSETTO:+0200
TZNAME:CEST
DTSTART:19700329T020000
RRULE:FREQ=YEARLY;BYMONTH=3;BYDAY=-1SU
END:DAYLIGHT
BEGIN:STANDARD
TZOFFSETFROM:+0200
TZOFFSETTO:+0100
TZNAME:CET
DTSTART:19701025T030000
RRULE:FREQ=YEARLY;BYMONTH=10;BYDAY=-1SU
END:STANDARD
END:VTIMEZONE
BEGIN:VEVENT
UID:2485226:Event:1141516
DTSTAMP:20260422T203826Z
SUMMARY:Relaxation sensorielle avec les bols en cristal et didgéridoo
DESCRIPTION:Optimisons notre santé notrebien le plus précieux avec l
 a relaxation sensorielle et les bols en cristal.\nUne heure de profond
 e détente équivaut à une semaine de vacance.\nparticipation 10 euro
 s pour location du lieu.\nhttp://sophienoel.com/newsletter/janvier-201
 3.html\n\nPour plus d'information, aller sur https://epanews.fr/events
 /relaxation-sensorielle-avec-les-bols-en-cristal-et-didg-ridoo
DTSTART;TZID=Europe/Paris:20130202T183000
DTEND;TZID=Europe/Paris:20130202T193000
CATEGORIES:9, 4, 2, 0
LOCATION:94220 Charenton le pont métro charenton école
WEBSITE:
URL:
CONTACT:0699444567
ORGANIZER;CN=Energéticienne:https://epanews.fr/profile/Energeticienne
ATTACH;FMTTYPE="image/jpeg":http://storage.ning.com/topology/rest/1.0/
 file/get/1662749999?profile=original
ATTENDEE;ROLE=REQ-PARTICIPANT;PARTSTAT=ACCEPTED;RSVP=TRUE;CN=Energéti
 cienne:https://epanews.fr/profile/Energeticienne
END:VEVENT
END:VCALENDAR
