BEGIN:VCALENDAR
PRODID:NingEventWidget-v1
VERSION:2.0
METHOD:PUBLISH
BEGIN:VTIMEZONE
TZID:Europe/Paris
X-LIC-LOCATION:Europe/Paris
BEGIN:DAYLIGHT
TZOFFSETFROM:+0100
TZOFFSETTO:+0200
TZNAME:CEST
DTSTART:19700329T020000
RRULE:FREQ=YEARLY;BYMONTH=3;BYDAY=-1SU
END:DAYLIGHT
BEGIN:STANDARD
TZOFFSETFROM:+0200
TZOFFSETTO:+0100
TZNAME:CET
DTSTART:19701025T030000
RRULE:FREQ=YEARLY;BYMONTH=10;BYDAY=-1SU
END:STANDARD
END:VTIMEZONE
BEGIN:VEVENT
UID:2485226:Event:959270
DTSTAMP:20260424T144335Z
SUMMARY:Relaxation et Bien-Ãªtre
DESCRIPTION:OUI, VOUS MÃ‰RITEZ UNE SÃ‰ANCE DE RELAXATION ! FAÃŽTES UNE
  PAUSE DE RELAXATION\nDiminuer Le stress, Lâ€™angoisse\nSÃ©ance de Rel
 axation de groupe -DÃ©tente, relaxation et Bien-Ãªtre. -ContrÃ´ler son
  souffle. -GÃ©rer les Ã©nergies de son corps.Â  -Diminuer le stress, l
 'angoisse... -Recharger le corps en Ã©nergie positive.\nSALLE TROP COO
 L Â 17690 ANGOULINS\nLe 26 Octobre de 17h30 Ã  19h 15â‚¬ / Personne RÃ
 ©servation: 05 46 43 01 66 ou 07 87 57 88 06 magnetiseur-energeticien.
 blogspot.com\n \n\nPour plus d'information, aller sur https://epanews.
 fr/events/relaxation-et-bien-tre-2
DTSTART;TZID=Europe/Paris:20121026T173000
DTEND;TZID=Europe/Paris:20121026T190000
CATEGORIES:17340
LOCATION:ANGOULINS 17690
WEBSITE:http://www.magnetiseur-energeticien.blogspot.com
URL:http://www.magnetiseur-energeticien.blogspot.com
CONTACT:07 87 57 88 06
ORGANIZER;CN="MagnÃ©tiseur Ã©nergÃ©ticien":https://epanews.fr/profile/
 Magnetiseurenergeticien
ATTACH;FMTTYPE="image/jpeg":
ATTENDEE;ROLE=REQ-PARTICIPANT;PARTSTAT=ACCEPTED;RSVP=TRUE;CN="MagnÃ©ti
 seur Ã©nergÃ©ticien":https://epanews.fr/profile/Magnetiseurenergeticie
 n
END:VEVENT
END:VCALENDAR
