BEGIN:VCALENDAR
PRODID:NingEventWidget-v1
VERSION:2.0
METHOD:PUBLISH
BEGIN:VTIMEZONE
TZID:Europe/Paris
X-LIC-LOCATION:Europe/Paris
BEGIN:DAYLIGHT
TZOFFSETFROM:+0100
TZOFFSETTO:+0200
TZNAME:CEST
DTSTART:19700329T020000
RRULE:FREQ=YEARLY;BYMONTH=3;BYDAY=-1SU
END:DAYLIGHT
BEGIN:STANDARD
TZOFFSETFROM:+0200
TZOFFSETTO:+0100
TZNAME:CET
DTSTART:19701025T030000
RRULE:FREQ=YEARLY;BYMONTH=10;BYDAY=-1SU
END:STANDARD
END:VTIMEZONE
BEGIN:VEVENT
UID:2485226:Event:2461384
DTSTAMP:20260424T212456Z
SUMMARY:relaxation coréenne
DESCRIPTION:L’association Lamibonheur vous propose un nouvel atelier
 \nAvec Anne Marie sur la relaxation Coréenne\nQu'est-ce que c'est ?\
 nLa technique utilisée en relaxation coréenne est principalement la 
 vibration, c'est-à-dire la provocation de l'ondoiement naturel du cor
 ps en stimulant le cerveau pour ce relaxer.\ndéroulement d'une séanc
 e\nLe patient se met en position allongée, gardant ses vêtements et 
 sans autre support qu'un tissu pour recouvrir le sol. La partie du cor
 ps choisie est bougé pendant une minute à une minute et demie. La vi
 bration crée se propage progressivement vers tout le corps. Ensuite c
 e dernier est laissé pour l'intégration de la vibration obtenue. Les
  deux étapes, active et passive, forment un cycle,\nPour terminer la 
 séance, le praticien masse le visage et la tête du patient qui va pl
 onger dans un état euphorique de légèreté et de bien-être.\nRelax
 ation coréenne : pour quels bienfaits ?\n\nL'éveil des sens.\nLe s
 oulagement des douleurs au niveau des muscles et des articulations.\nL
 a perte de surpoids.\nLa lutte contre l'insomnie, les angoisses et le 
 stress.\n\n prix 6€ pour la salle\n\nPour plus d'information, aller
  sur https://epanews.fr/events/relaxation-cor-enne
DTSTART;TZID=Europe/Paris:20151121T173000
DTEND;TZID=Europe/Paris:20151121T183000
CATEGORIES:83
LOCATION:toulon ouest
WEBSITE:
URL:
CONTACT:0661912800
ORGANIZER;CN="Patrick MALLET":https://epanews.fr/profile/mallet
ATTACH;FMTTYPE="image/jpeg":http://storage.ning.com/topology/rest/1.0/
 file/get/1663473842?profile=original
ATTENDEE;ROLE=REQ-PARTICIPANT;PARTSTAT=ACCEPTED;RSVP=TRUE;CN="Patrick 
 MALLET":https://epanews.fr/profile/mallet
ATTENDEE;ROLE=REQ-PARTICIPANT;PARTSTAT=ACCEPTED;RSVP=TRUE;CN=18cathy:h
 ttps://epanews.fr/profile/18cathy
ATTENDEE;ROLE=REQ-PARTICIPANT;PARTSTAT=ACCEPTED;RSVP=TRUE;CN=Aline:htt
 ps://epanews.fr/profile/Aline946
END:VEVENT
END:VCALENDAR
