BEGIN:VCALENDAR
PRODID:NingEventWidget-v1
VERSION:2.0
METHOD:PUBLISH
BEGIN:VTIMEZONE
TZID:Europe/Paris
X-LIC-LOCATION:Europe/Paris
BEGIN:DAYLIGHT
TZOFFSETFROM:+0100
TZOFFSETTO:+0200
TZNAME:CEST
DTSTART:19700329T020000
RRULE:FREQ=YEARLY;BYMONTH=3;BYDAY=-1SU
END:DAYLIGHT
BEGIN:STANDARD
TZOFFSETFROM:+0200
TZOFFSETTO:+0100
TZNAME:CET
DTSTART:19701025T030000
RRULE:FREQ=YEARLY;BYMONTH=10;BYDAY=-1SU
END:STANDARD
END:VTIMEZONE
BEGIN:VEVENT
UID:2485226:Event:2869168
DTSTAMP:20260422T012125Z
SUMMARY:Relaxation avec le modelage du dos
DESCRIPTION:Relaxation avec le modelage du dos *\nAnimÃ©e par :Â Marti
 ne GAGNON\nDiplÃ´mÃ©eÂ Â de lâ€™INAÂ  Â (Institut des neurosciences ap
 pliquÃ©es de David Lefrancois)et de lâ€™EcoleÂ Â E.T.C Â fondÃ©e par Â
  Lise BourbeauÂ et praticienne en massage californien et ayurvÃ©dique.
 \nDateÂ Â Â Â Â  Â  Â  Â Â Â Â Â :Â Â Â Jeudi 28 Septembre 2017\nHeure
 Â Â Â Â  Â Â Â Â Â Â Â :Â Â Â 14 h Ã Â 17Â h 30\nLieuÂ Â Â Â Â Â  Â  Â
  Â Â Â Â Â :Â Â Â 95600Â Â Eaubonne. (10 km de Paris)\nRÃ©servationÂ  
 Â :Â  Â 06 87 62 31 18Â Â Â  Â  -Â Â  Â Â e-mail :Â martine.gagnon@hot
 mail.fr\n*Atelier uniquement rÃ©servÃ© aux femmes\nÂ \nUne initiation 
 modelage du dos\nJe vous propose un atelier chaleureux qui vise Ã  vou
 s faire dÃ©couvrir des manÅ“uvres de massage pour vous dÃ©tendre et so
 ulager votre dos.\nÂ Vous pratiquerez en binÃ´me la relaxation par le 
 massage du dos.\nConnaissez-vous cette expression populaireÂ  â€˜en av
 oirÂ  plein le dosâ€™ ce qui signifie que lâ€™on est fatiguÃ© et que l
 â€™on ressent physiquement cette sensation de lourdeur.\nVous arrive-t
 -il Â dâ€™en porter trop sur vos Ã©paulesÂ ?\nVous arrive-t-il Â dâ€™a
 voir besoin de vousÂ  dÃ©tendreÂ ?\nVous arrive-t-il Â dâ€™avoir besoi
 n de vousÂ  de vous ressourcerÂ ?\nSi tout cela rÃ©sonne en vous, offr
 ez-vous cet atelier dÃ©diÃ© au bien-Ãªtre et Ã  la relaxation.\nAucun 
 prÃ© requis nâ€™est nÃ©cessaire.\nAttention, inscrivez-vous rapidement
  car le nombre de place est limitÃ© !\nParticipation : Â  25â‚¬\n\nPou
 r plus d'information, aller sur https://epanews.fr/events/relaxation-a
 vec-le-modelage-du-dos
DTSTART;TZID=Europe/Paris:20170928T140000
DTEND;TZID=Europe/Paris:20170928T173000
CATEGORIES:95
LOCATION:ATELIER A EAUBONNE (95600)
WEBSITE:http://coaching-confiance.com/
URL:http://coaching-confiance.com/
CONTACT:0687623118
ORGANIZER:
ATTACH;FMTTYPE="image/jpeg":http://storage.ning.com/topology/rest/1.0/
 file/get/1663689254?profile=original
ATTENDEE;ROLE=REQ-PARTICIPANT;PARTSTAT=ACCEPTED;RSVP=TRUE;CN="Martine 
 gagnon":https://epanews.fr/profile/Martinegagnon
END:VEVENT
END:VCALENDAR
