BEGIN:VCALENDAR
PRODID:NingEventWidget-v1
VERSION:2.0
METHOD:PUBLISH
BEGIN:VTIMEZONE
TZID:Europe/Paris
X-LIC-LOCATION:Europe/Paris
BEGIN:DAYLIGHT
TZOFFSETFROM:+0100
TZOFFSETTO:+0200
TZNAME:CEST
DTSTART:19700329T020000
RRULE:FREQ=YEARLY;BYMONTH=3;BYDAY=-1SU
END:DAYLIGHT
BEGIN:STANDARD
TZOFFSETFROM:+0200
TZOFFSETTO:+0100
TZNAME:CET
DTSTART:19701025T030000
RRULE:FREQ=YEARLY;BYMONTH=10;BYDAY=-1SU
END:STANDARD
END:VTIMEZONE
BEGIN:VEVENT
UID:2485226:Event:2285382
DTSTAMP:20260423T014932Z
SUMMARY:Relax-DanSe
DESCRIPTION:Relax-DanSe\nÂ \nVenez voyager dans d'autres spheres !\nCa
  fait plusieurs annÃ©es que je vais Ã  la Â Relax-DanSe d'Arundhati,\n
 A vivre au moins une fois, c'est + qu'un conseilÂ !!!\nClÃ©ment\n:\n\n
 Â \nSamedi 11 Avril\n10hOO-13h00 \nStudio le Regard du cygne Paris 20Ã
 ¨me   \nJe vous attends de pieds lÃ©gers,sur le beau plancher du studi
 o, pour une envolÃ©e de joie et de transformation, Ã  la rencontre de 
 votreÂ Animal-Totem. \nPas besoin de savoir danser ! le mouvement naÃ®
 tra de la confiance que vous ressentirez Ã  vous mouvoir dans un group
 e harmonieux. \nVenez avec vos allergies de printemps, vos dix mille a
 utres choses Ã  faire (que de toutes faÃ§ons, vous ne ferez pas...).\n
 Vos agacements, vos envies de rester sous la couette, votre \"pas envi
 e\" de rencontrer l'autre... les autres...\nNous mixerons tout cela au
  son du tambour, de nos rires et la bienveillance du lieu et de tous l
 es Ãªtres qui nous accompagnent dans l'invisible.\nImportant : Merci d
 e demander les codes d'entrÃ© Ã  Arundhati par tÃ©lÃ©phone ou par sms 
 : 06 76 02 00 89\nÂ \n\nTarif : 20â‚¬\n\nÂ \nFraternellement,\nArundha
 ti\nÂ \nÂ \n\nPour plus d'information, aller sur https://epanews.fr/ev
 ents/relax-danse-1
DTSTART;TZID=Europe/Paris:20150411T100000
DTEND;TZID=Europe/Paris:20150411T130000
CATEGORIES:75
LOCATION:Studio le Regard du cygne
WEBSITE:http://www.horizons-interieurs.net/relax-danse/
URL:http://www.horizons-interieurs.net/relax-danse/
CONTACT:06 76 02 00 89
ORGANIZER;CN=musiqueclemennt:https://epanews.fr/profile/musiqueclemenn
 t
ATTACH;FMTTYPE="image/jpeg":http://storage.ning.com/topology/rest/1.0/
 file/get/1663366027?profile=original
ATTENDEE;ROLE=REQ-PARTICIPANT;PARTSTAT=ACCEPTED;RSVP=TRUE;CN=musiquecl
 emennt:https://epanews.fr/profile/musiqueclemennt
END:VEVENT
END:VCALENDAR
