BEGIN:VCALENDAR
PRODID:NingEventWidget-v1
VERSION:2.0
METHOD:PUBLISH
BEGIN:VTIMEZONE
TZID:Europe/Paris
X-LIC-LOCATION:Europe/Paris
BEGIN:DAYLIGHT
TZOFFSETFROM:+0100
TZOFFSETTO:+0200
TZNAME:CEST
DTSTART:19700329T020000
RRULE:FREQ=YEARLY;BYMONTH=3;BYDAY=-1SU
END:DAYLIGHT
BEGIN:STANDARD
TZOFFSETFROM:+0200
TZOFFSETTO:+0100
TZNAME:CET
DTSTART:19701025T030000
RRULE:FREQ=YEARLY;BYMONTH=10;BYDAY=-1SU
END:STANDARD
END:VTIMEZONE
BEGIN:VEVENT
UID:2485226:Event:2304109
DTSTAMP:20260420T125048Z
SUMMARY:Modificrejoignez nous pour une séance gratuite de soin énerg
 étique à distance
DESCRIPTION: \nOù que vous soyez en France où à l'étranger, rejoi
 gnez nous pour une séance GRATUITE de soin énergétique à distance 
 le vendredi 1er mai de 20h à 20h30. Le soin  favorise un retour à l
 ’équilibre et à l’harmonie de l'être dans sa globalité. Il agi
 t sur tous les plans (physique, mental, émotionnel et spirituel) grâ
 ce aux fréquences vibratoires de l'énergie qui sont réactivées. La
  personne est donc ré-alignée, ré-équilibrée selon la théorie de
 s cordes en physique quantique. Si vous le souhaitez, après la séanc
 e, vous pourrez  partager votre vécu   durant la séance … Ceci 
 n’est évidemment  pas une obligation.  A vendredi ! http://fcbourg
 uignon.wix.com/reconnexion\n\n\nPour plus d'information, aller sur htt
 ps://epanews.fr/events/rejoignez-nous-pour-une-s-ance-gratuite-de-soin
 -nerg-tique
DTSTART;TZID=Europe/Paris:20150501T200000
DTEND;TZID=Europe/Paris:20150501T203000
CATEGORIES:tous
LOCATION:france
WEBSITE:http://fcbourguignon.wix.com/reconnexion
URL:http://fcbourguignon.wix.com/reconnexion
CONTACT:
ORGANIZER;CN="françois-christophe bourguignon":https://epanews.fr/pro
 file/francoischristophebourguignon
ATTACH;FMTTYPE="image/jpeg":http://storage.ning.com/topology/rest/1.0/
 file/get/1663380768?profile=original
ATTENDEE;ROLE=REQ-PARTICIPANT;PARTSTAT=ACCEPTED;RSVP=TRUE;CN="françoi
 s-christophe bourguignon":https://epanews.fr/profile/francoischristoph
 ebourguignon
END:VEVENT
END:VCALENDAR
