BEGIN:VCALENDAR
PRODID:NingEventWidget-v1
VERSION:2.0
METHOD:PUBLISH
BEGIN:VTIMEZONE
TZID:Europe/Paris
X-LIC-LOCATION:Europe/Paris
BEGIN:DAYLIGHT
TZOFFSETFROM:+0100
TZOFFSETTO:+0200
TZNAME:CEST
DTSTART:19700329T020000
RRULE:FREQ=YEARLY;BYMONTH=3;BYDAY=-1SU
END:DAYLIGHT
BEGIN:STANDARD
TZOFFSETFROM:+0200
TZOFFSETTO:+0100
TZNAME:CET
DTSTART:19701025T030000
RRULE:FREQ=YEARLY;BYMONTH=10;BYDAY=-1SU
END:STANDARD
END:VTIMEZONE
BEGIN:VEVENT
UID:2485226:Event:201647
DTSTAMP:20260421T135803Z
SUMMARY:Reiki partage 78
DESCRIPTION:Praticiennes et Praticiens de Reiki,\nJe vous invite à un
 e soirée REIKI PARTAGE près de Versailles à Fontenay le Fleury, le 
 Mercredi 9 février à 19h30.\nPour plus d'informations n'hésitez à 
 m'appeler au 06.50.53.77.25 ou à consulter mon site www.fleurdamethy
 ste.com.\nA très bientôt,\nDans la Lumière, la Sagesse et l'Amour d
 u Reiki,\nIsabelle\n\nPour plus d'information, aller sur https://epane
 ws.fr/events/reiki-partage-78
DTSTART;TZID=Europe/Paris:20110209T193000
DTEND;TZID=Europe/Paris:20110209T220000
CATEGORIES:78
LOCATION:FONTENAY LE FLEURY 78 - FLEUR D'AMETHYSTE
WEBSITE:http://www.fleurdamethyste.com
URL:http://www.fleurdamethyste.com
CONTACT:0650537725
ORGANIZER;CN="FLEUR D'AMETHYSTE":https://epanews.fr/profile/FLEURDAMET
 HYSTE
ATTACH;FMTTYPE="image/jpeg":
ATTENDEE;ROLE=REQ-PARTICIPANT;PARTSTAT=ACCEPTED;RSVP=TRUE;CN="FLEUR D'
 AMETHYSTE":https://epanews.fr/profile/FLEURDAMETHYSTE
END:VEVENT
END:VCALENDAR
