BEGIN:VCALENDAR
PRODID:NingEventWidget-v1
VERSION:2.0
METHOD:PUBLISH
BEGIN:VTIMEZONE
TZID:Europe/Paris
X-LIC-LOCATION:Europe/Paris
BEGIN:DAYLIGHT
TZOFFSETFROM:+0100
TZOFFSETTO:+0200
TZNAME:CEST
DTSTART:19700329T020000
RRULE:FREQ=YEARLY;BYMONTH=3;BYDAY=-1SU
END:DAYLIGHT
BEGIN:STANDARD
TZOFFSETFROM:+0200
TZOFFSETTO:+0100
TZNAME:CET
DTSTART:19701025T030000
RRULE:FREQ=YEARLY;BYMONTH=10;BYDAY=-1SU
END:STANDARD
END:VTIMEZONE
BEGIN:VEVENT
UID:2485226:Event:613305
DTSTAMP:20260422T060514Z
SUMMARY:Stage Reiki 2Ã¨me degrÃ©
DESCRIPTION:Bonjour Ã  Toutes et Tous,  Je vous propose de venir dÃ©co
 uvrir la pratique du Reiki Usui lors dâ€™une initiation de 2 jours oÃ¹
  toutes les techniques du Second degrÃ© vous seront enseignÃ©es, y com
 pris les techniques de base en litho-thÃ©rapie.  Pour des raisons qual
 itatives ce stage ne compte que 7 places.\nReiki IIÂ Â \nLe deuxiÃ¨me 
 degrÃ© s'enseigne en deux jours intensifs. Contenu du stage:\n-Â Â Â Â
  Â Â Â Â Â Â rÃ©viser le stage de premier degrÃ©\n-Â Â Â Â Â Â Â Â Â Â
  enseigner et expliquer les trois symboles Â«Â traditionnelsÂ Â» du de
 uxiÃ¨me degrÃ© de Reiki\n-Â Â Â Â Â Â Â Â Â Â enseigner et expliquer l
 e symbole du cÅ“ur\n-Â Â Â Â Â Â Â Â Â Â utilisation des symboles dans
  : l'autotraitement, le traitement pour une autre personne, le traitem
 ent Ã  distance et le \"beaming\", la guÃ©rison des problÃ¨mes spÃ©cif
 iques (Reiki Ã  une situation) traitement dans le passÃ©, le prÃ©sent 
 et le futur, Reiki dans les dimensions, etc.\n-Â Â Â Â Â Â Â Â Â Â lâ€
 ™utilisation dâ€™un cristal de quartz dans les traitements Ã  distance
 \n-Â Â Â Â Â Â Â Â Â Â l'initiation du deuxiÃ¨me degrÃ©\n-Â Â Â Â Â Â 
 Â Â Â Â l'initiation au symbole du coeur et l'initiation des pieds\n-Â
  Â Â Â Â Â Â Â Â Â pratiquer des traitements en direct et Ã  distance 
 avec les symboles\n-Â Â Â Â Â Â Â Â Â TJRÂ (Techniques Japonaises de R
 eiki)Â :Â Traitement mental selon M. Usui, Jacky-Kiri Joka Ho, Laser H
 o, Hesso Chiryo\nÂ Â \n- Un livret qui reprend les diffÃ©rents Ã©lÃ©me
 nts de cette formation.  Si vous souhaitez plus d'information n'hÃ©sit
 ez pas Ã  me contacter Christian, directement au 06.08.05.91.15 ou sur
  mon mail loczen@gmail.com  Participation de 250 euros pour les deux j
 ours, (hors frais de restauration et dÃ©placement).\nÂ \nDÃ©but du sta
 ge le samedi 18 fÃ©vrier de 9h30 Ã  18h00 et leÂ Dimanche 19 fÃ©vrier 
 de 9h30 Ã  17h00.\n MaÃ®tre Reiki Usui, Coach et litho-thÃ©rapeute jâ€
 ™accompagne Ã©galement individuellement les personnes souhaitant retro
 uver un mieux Ãªtre dans leur vie.\nÂ \nAuto-entrepreneur Christian Ka
 lafate, membre de la F.F.R.U NÂ° SIRET: 42337521100020 Assurance Macif
 ilia RCNÂ°20000004989\n\nPour plus d'information, aller sur https://ep
 anews.fr/events/reiki-ii
DTSTART;TZID=Europe/Paris:20120218T093000
DTEND;TZID=Europe/Paris:20120219T180000
CATEGORIES:75
LOCATION:PARIS 12 Ã¨me
WEBSITE:http://www.loczen.com
URL:http://www.loczen.com
CONTACT:33608059115
ORGANIZER;CN=kunndalini:https://epanews.fr/profile/kunndalini
ATTACH;FMTTYPE="image/jpeg":http://storage.ning.com/topology/rest/1.0/
 file/get/1662514128?profile=original
ATTENDEE;ROLE=REQ-PARTICIPANT;PARTSTAT=ACCEPTED;RSVP=TRUE;CN=kunndalin
 i:https://epanews.fr/profile/kunndalini
END:VEVENT
END:VCALENDAR
