BEGIN:VCALENDAR
PRODID:NingEventWidget-v1
VERSION:2.0
METHOD:PUBLISH
BEGIN:VTIMEZONE
TZID:Europe/Paris
X-LIC-LOCATION:Europe/Paris
BEGIN:DAYLIGHT
TZOFFSETFROM:+0100
TZOFFSETTO:+0200
TZNAME:CEST
DTSTART:19700329T020000
RRULE:FREQ=YEARLY;BYMONTH=3;BYDAY=-1SU
END:DAYLIGHT
BEGIN:STANDARD
TZOFFSETFROM:+0200
TZOFFSETTO:+0100
TZNAME:CET
DTSTART:19701025T030000
RRULE:FREQ=YEARLY;BYMONTH=10;BYDAY=-1SU
END:STANDARD
END:VTIMEZONE
BEGIN:VEVENT
UID:2485226:Event:2301450
DTSTAMP:20260421T100656Z
SUMMARY:reiki 1er degre
DESCRIPTION:Stage d Initiation REIKI 1er Niveau.\nLe week end du 16 et
  17 Mai.\nPour tout Renseignement: eternellenature @gmail.com\n\n\nPou
 r plus d'information, aller sur https://epanews.fr/events/reiki-1er-ni
 veau-1
DTSTART;TZID=Europe/Paris:20150704T000000
DTEND;TZID=Europe/Paris:20150705T235900
CATEGORIES:34
LOCATION:VAL DES FEES
WEBSITE:
URL:
CONTACT:0665215638
ORGANIZER;CN="eternelle nature":https://epanews.fr/profile/eternellena
 ture
ATTACH;FMTTYPE="image/jpeg":
ATTENDEE;ROLE=REQ-PARTICIPANT;PARTSTAT=ACCEPTED;RSVP=TRUE;CN="eternell
 e nature":https://epanews.fr/profile/eternellenature
END:VEVENT
END:VCALENDAR
