BEGIN:VCALENDAR
PRODID:NingEventWidget-v1
VERSION:2.0
METHOD:PUBLISH
BEGIN:VTIMEZONE
TZID:Europe/Paris
X-LIC-LOCATION:Europe/Paris
BEGIN:DAYLIGHT
TZOFFSETFROM:+0100
TZOFFSETTO:+0200
TZNAME:CEST
DTSTART:19700329T020000
RRULE:FREQ=YEARLY;BYMONTH=3;BYDAY=-1SU
END:DAYLIGHT
BEGIN:STANDARD
TZOFFSETFROM:+0200
TZOFFSETTO:+0100
TZNAME:CET
DTSTART:19701025T030000
RRULE:FREQ=YEARLY;BYMONTH=10;BYDAY=-1SU
END:STANDARD
END:VTIMEZONE
BEGIN:VEVENT
UID:2485226:Event:2673224
DTSTAMP:20260422T035534Z
SUMMARY:ReconquÃ©rir sa parole et mieux s'affirmer
DESCRIPTION:Un stage-atelier : s'affirmer pour mieux communiquer\nDeux
  journÃ©es pour gagner en Ã©nergie et aisance relationnelle.  Â Â  Â 2
 /3 juillet :Â complet Â Â  Â 7/8 juillet : Â deux places disponibles Â
  Â  Â 6/7 aoÃ»t : Â inscriptions ouvertes  Pour mieux s'affirmer lors 
 d'entretiens Ã  fort enjeux ou face Ã  un jury, ou tout simplement dan
 s l'environnement familial ou professionnel et reconquÃ©rir sa parole 
 pour s'exprimer avec Ã©nergie et plaisir ! Programme intÃ©gral et bull
 etin d'inscription envoyÃ©s sur demande par mail Ã   Â Â  Â  Â  Â  Â  
 Â  Â  Â  Â  Â  Â  Â Â  ar.premices@free.fr  Deux journÃ©es pour gagner
  en Ã©nergie et aisance relationnelle.  RÃ©alisÃ© dans un cadre associ
 atif Ã  des conditions permettant au plus grand nombre d'en bÃ©nÃ©fici
 er.  Attention : les frais d'inscription Ã  la journÃ©e destinÃ©s au f
 onctionnement de l'association par leur modestie ne doivent pas laisse
 r envisager un programme modeste. Les contenus de qualitÃ© mobilisÃ©s 
 sont issus des actions rÃ©alisÃ©es auprÃ¨s de publics professionnels d
 iversifiÃ©s.  Nouvelles dates (voir plus bas)  Suite Ã  plusieurs dema
 ndes, nous avons ajoutÃ© de nouvelles dates :  _ Se ressourcer au cour
 s de l'Ã©tÃ© _  Lâ€™angoisse est dans la nature humaine. L'Ã©motion n'
 est pas nouvelle. Et nous ne sommes pas plus anxieux que dâ€™autres. P
 ourtant, lâ€™angoisse nous envahit parfois de faÃ§on diffuse, alimentÃ
 ©e par le flux continu des drames dÃ©versÃ©s sans recul suffisant par 
 les MÃ©dias.  Pour ne pas sombrer dans le repli et rester seul avec se
 s angoisses, ni fuir dans lâ€™hyperactivitÃ© et lâ€™agitation permanen
 te, pour retrouver son propre rythme, restaurer un dialogue intÃ©rieur
  serein, et regagner sa propre confiance qui permet une meilleure affi
 rmation de soi  Explorer ensemble des techniques mobilisables par tous
 , partout, et : - dÃ©passer les apprÃ©hensions et rÃ©duire les tension
 s, - renforcer sa confiance et dÃ©velopper son aisance relationnelle. 
  Sâ€™affirmer, c'est prendre soi de soi  Sâ€™affirmer, c'est prendre l
 e contrÃ´le de sa vie.\nUn atelier pour :  Â Â  Â - dÃ©velopper ses pr
 opres ressources Â Â  Â - Ãªtre en meilleure connexion avec soi-mÃªme 
 et avec les autres Â Â  Â - se prÃ©parer Ã  mieux faire face aux situa
 tions imprÃ©vues Â Â  Â - apprendre Ã  gÃ©rer ses pensÃ©es nÃ©gatives 
 Â Â  Â - retrouver calme et sÃ©curitÃ© intÃ©rieure Â Â  Â - mieux gÃ©r
 er son humeur et amÃ©liorer sa qualitÃ© de vie Â Â  Â - exprimer ses b
 esoins, affirmer ses valeurs et ses prioritÃ©s Â Â  Â - ni se soumettr
 e, ni manipuler, ni dÃ©missionner Â Â  Â - mais exister Ã  sa juste pl
 ace.  Le programme rÃ©parti sur deux journÃ©es comporte la dÃ©couverte
  et la pratique de techniques concrÃ¨tes et immÃ©diatement mobilisable
 s.  Atelier accessible Ã  toute personne motivÃ©e et limitÃ© Ã  8 part
 icipants.  Prochaines sessions :  - Juillet : 2/3 juillet (complet), p
 uis 7/8 juillet, 9/ 10 juillet, 21 / 22 juillet, 23 /24 juillet, - AoÃ
 »t: 6/ 7 aoÃ»t, 20 /21 aoÃ»t, - Sept. : 3/4 septembre  sous le soleil 
 de Montpellier (lieu prÃ©cisÃ© sur la convocation).  L'effectif des se
 ssions Ã©tant limitÃ© pour garantir la qualitÃ© des Ã©changes, n'atten
 dez pas pour demander votre programme et vous inscrire.\"\n\nPour plus
  d'information, aller sur https://epanews.fr/events/reconqu-rir-sa-par
 ole-et-mieux-s-affirmer
DTSTART;TZID=Europe/Paris:20160707T000000
DTEND;TZID=Europe/Paris:20160708T235900
CATEGORIES:tous
LOCATION:Montpellier et proximitÃ©
WEBSITE:
URL:
CONTACT:0661898456
ORGANIZER;CN=NOLAN:https://epanews.fr/profile/NOLAN
ATTACH;FMTTYPE="image/jpeg":http://storage.ning.com/topology/rest/1.0/
 file/get/1663583173?profile=original
ATTENDEE;ROLE=REQ-PARTICIPANT;PARTSTAT=ACCEPTED;RSVP=TRUE;CN=NOLAN:htt
 ps://epanews.fr/profile/NOLAN
END:VEVENT
END:VCALENDAR
