BEGIN:VCALENDAR
PRODID:NingEventWidget-v1
VERSION:2.0
METHOD:PUBLISH
BEGIN:VTIMEZONE
TZID:Europe/Paris
X-LIC-LOCATION:Europe/Paris
BEGIN:DAYLIGHT
TZOFFSETFROM:+0100
TZOFFSETTO:+0200
TZNAME:CEST
DTSTART:19700329T020000
RRULE:FREQ=YEARLY;BYMONTH=3;BYDAY=-1SU
END:DAYLIGHT
BEGIN:STANDARD
TZOFFSETFROM:+0200
TZOFFSETTO:+0100
TZNAME:CET
DTSTART:19701025T030000
RRULE:FREQ=YEARLY;BYMONTH=10;BYDAY=-1SU
END:STANDARD
END:VTIMEZONE
BEGIN:VEVENT
UID:2485226:Event:1624587
DTSTAMP:20260423T100955Z
SUMMARY:Rebirthing - Atelier Intensif de Kundalini Yoga
DESCRIPTION:Nettoyer le subconscient\n\nGuérir les douleurs du passé
  et surmonter les obstacles qui nous tiennent éloigné d'une vie meil
 leure - éveillé, régénéré et présent à notre objectif. Ces cou
 rs \"Rebirthing/Renaissance\" font partis des ateliers intensifs ensei
 gnés par Yogi Bhajan qui ont fait le plus parlé d'eux lors de ses 35
  années d'enseignement. Des exercices puissants et efficaces accompag
 nés des fréquences du Gong .  Tarif : 20€ Réservation : contact@l
 ayama.org  Dimanche 17 Novembre 2013 de 10h30 à 12h30 Club Génaé : 
 http://bouc-bel-air.genaeclub.com/infos-pratiques/adresse-et-horaires/
 \n\nPour plus d'information, aller sur https://epanews.fr/events/rebir
 thing-atelier-intensif-de-kundalini-yoga
DTSTART;TZID=Europe/Paris:20131117T103000
DTEND;TZID=Europe/Paris:20131117T123000
CATEGORIES:13
LOCATION:Club Génaé
WEBSITE:http://bouc-bel-air.genaeclub.com/infos-pratiques/adresse-et-h
 oraires/
URL:http://bouc-bel-air.genaeclub.com/infos-pratiques/adresse-et-horai
 res/
CONTACT:06 23 38 58 55
ORGANIZER;CN=SiriKar:https://epanews.fr/profile/SiriKar
ATTACH;FMTTYPE="image/jpeg":
ATTENDEE;ROLE=REQ-PARTICIPANT;PARTSTAT=ACCEPTED;RSVP=TRUE;CN=SiriKar:h
 ttps://epanews.fr/profile/SiriKar
END:VEVENT
END:VCALENDAR
