BEGIN:VCALENDAR
PRODID:NingEventWidget-v1
VERSION:2.0
METHOD:PUBLISH
BEGIN:VTIMEZONE
TZID:Europe/Paris
X-LIC-LOCATION:Europe/Paris
BEGIN:DAYLIGHT
TZOFFSETFROM:+0100
TZOFFSETTO:+0200
TZNAME:CEST
DTSTART:19700329T020000
RRULE:FREQ=YEARLY;BYMONTH=3;BYDAY=-1SU
END:DAYLIGHT
BEGIN:STANDARD
TZOFFSETFROM:+0200
TZOFFSETTO:+0100
TZNAME:CET
DTSTART:19701025T030000
RRULE:FREQ=YEARLY;BYMONTH=10;BYDAY=-1SU
END:STANDARD
END:VTIMEZONE
BEGIN:VEVENT
UID:2485226:Event:1018115
DTSTAMP:20260422T134056Z
SUMMARY:rassemblement crânes de crystal
DESCRIPTION:à la grotte Marie Madeleine à la Ste Beaume le 12 decemb
 re à 11h00\ncontactez moi pour nous regrouper, il faut à peu près 2
 0à 25 minutes pour monter à la grotte\nrendez-vous sur le parking d
 e l'Hostellerie dans le café à 10h00\n \nje vous propose déjà de 
 lire ce qui est avancé comme explication de l'origine de ces crânes 
 de Crystal sur ce lien:\n \nhttp://www.onnouscachetout.com/themes/myt
 hes/cranes.php\n  \n\nPour plus d'information, aller sur https://epa
 news.fr/events/rassemblement-cr-nes-de-crystal
DTSTART;TZID=Europe/Paris:20121212T100000
DTEND;TZID=Europe/Paris:20121212T130000
CATEGORIES:83
LOCATION:NANS LES PINS
WEBSITE:http://www.event-12-12-12.com/?p=248
URL:http://www.event-12-12-12.com/?p=248
CONTACT:0660463092
ORGANIZER;CN=danielstcyrsurmer:https://epanews.fr/profile/danielstcyrs
 urmer
ATTACH;FMTTYPE="image/jpeg":http://storage.ning.com/topology/rest/1.0/
 file/get/1662695886?profile=original
ATTENDEE;ROLE=REQ-PARTICIPANT;PARTSTAT=ACCEPTED;RSVP=TRUE;CN="Francois
 e Blanc":https://epanews.fr/profile/FrancoiseBlanc
ATTENDEE;ROLE=REQ-PARTICIPANT;PARTSTAT=ACCEPTED;RSVP=TRUE;CN=danielstc
 yrsurmer:https://epanews.fr/profile/danielstcyrsurmer
END:VEVENT
END:VCALENDAR
