BEGIN:VCALENDAR
PRODID:NingEventWidget-v1
VERSION:2.0
METHOD:PUBLISH
BEGIN:VTIMEZONE
TZID:Europe/Paris
X-LIC-LOCATION:Europe/Paris
BEGIN:DAYLIGHT
TZOFFSETFROM:+0100
TZOFFSETTO:+0200
TZNAME:CEST
DTSTART:19700329T020000
RRULE:FREQ=YEARLY;BYMONTH=3;BYDAY=-1SU
END:DAYLIGHT
BEGIN:STANDARD
TZOFFSETFROM:+0200
TZOFFSETTO:+0100
TZNAME:CET
DTSTART:19701025T030000
RRULE:FREQ=YEARLY;BYMONTH=10;BYDAY=-1SU
END:STANDARD
END:VTIMEZONE
BEGIN:VEVENT
UID:2485226:Event:559521
DTSTAMP:20260422T205012Z
SUMMARY:Raouf
DESCRIPTION:Apéro-RENCONTRE Conviviale -groupe de discussion. les dif
 ficultés des rencontres , des relations sentimentales , au travail ou
  avec les autres comment tout optimisons , nous verrons ensemble ?   A
 utour de cette idée aussi avec vos idées venez vous vos exprimer , e
 t parler selon vos souhaits et librement sur les choses de La Vie les 
 relations ,le bonheur la solitude l' amour l'amitié .. etc , et on va
  conclure ensemble l'idée de cette soirée .. Rdv Dans une salle rés
 ervée pour nous , autour de boissons chaudes ou froides , alcoolisée
 s ou non , dans une ambiance amicale , nous allons Aussi de se rencont
 rer faire mieux connaissance ....Pour ceux qui le souhaitent , ils pou
 rront rester diner sur place avec un menu à la carte au choix entre 1
 4 et 18 euros ( galette berbère et sa salade , couscous tagine , méc
 houi et merguez ou une assiette végétarienne ... ) soirée organisé
 e par Raouf écrivain de proche orient qui aura le plaisir de vous ren
 contrerBien Cordialement\n\nPour plus d'information, aller sur https:/
 /epanews.fr/events/raouf
DTSTART;TZID=Europe/Paris:20111014T193000
DTEND;TZID=Europe/Paris:20111014T223000
CATEGORIES:75, paris
LOCATION:paris
WEBSITE:
URL:
CONTACT:
ORGANIZER;CN=raouf:https://epanews.fr/profile/raouf
ATTACH;FMTTYPE="image/jpeg":
ATTENDEE;ROLE=REQ-PARTICIPANT;PARTSTAT=ACCEPTED;RSVP=TRUE;CN=raouf:htt
 ps://epanews.fr/profile/raouf
END:VEVENT
END:VCALENDAR
