BEGIN:VCALENDAR
PRODID:NingEventWidget-v1
VERSION:2.0
METHOD:PUBLISH
BEGIN:VTIMEZONE
TZID:Europe/Paris
X-LIC-LOCATION:Europe/Paris
BEGIN:DAYLIGHT
TZOFFSETFROM:+0100
TZOFFSETTO:+0200
TZNAME:CEST
DTSTART:19700329T020000
RRULE:FREQ=YEARLY;BYMONTH=3;BYDAY=-1SU
END:DAYLIGHT
BEGIN:STANDARD
TZOFFSETFROM:+0200
TZOFFSETTO:+0100
TZNAME:CET
DTSTART:19701025T030000
RRULE:FREQ=YEARLY;BYMONTH=10;BYDAY=-1SU
END:STANDARD
END:VTIMEZONE
BEGIN:VEVENT
UID:2485226:Event:1805785
DTSTAMP:20260422T184214Z
SUMMARY:Randonnée et Sophrologie à Essaouira, Maroc
DESCRIPTION:Une rando-sophro est une expérience unique qui mélange u
 ne randonnée à un rythme tranquille, l'immersion en pleine nature, e
 t la pratique quotidienne de la relaxation.\nLa randonnée permet de b
 elles rencontres et découvertes au pays de l'huile d'argan: un séjou
 r éthique et solidaire, le long de la côte atlantique sauvage. Un ca
 dre idéal pour lâcher prise\n\nPour plus d'information, aller sur ht
 tps://epanews.fr/events/randonn-e-et-sophrologie-essaouira-maroc
DTSTART;TZID=Europe/Paris:20140629T100000
DTEND;TZID=Europe/Paris:20140706T100000
CATEGORIES:tous
LOCATION:Essaouira, Maroc
WEBSITE:http://www.coachrelax.fr/blog/maroc-randonnee-sophrologie-essa
 ouira/
URL:http://www.coachrelax.fr/blog/maroc-randonnee-sophrologie-essaouir
 a/
CONTACT:0678569545
ORGANIZER;CN="Hélène, Coach Relax":https://epanews.fr/profile/CoachR
 elax
ATTACH;FMTTYPE="image/jpeg":http://storage.ning.com/topology/rest/1.0/
 file/get/1663072130?profile=original
ATTENDEE;ROLE=REQ-PARTICIPANT;PARTSTAT=ACCEPTED;RSVP=TRUE;CN="Hélène
 , Coach Relax":https://epanews.fr/profile/CoachRelax
END:VEVENT
END:VCALENDAR
