BEGIN:VCALENDAR
PRODID:NingEventWidget-v1
VERSION:2.0
METHOD:PUBLISH
BEGIN:VTIMEZONE
TZID:Europe/Paris
X-LIC-LOCATION:Europe/Paris
BEGIN:DAYLIGHT
TZOFFSETFROM:+0100
TZOFFSETTO:+0200
TZNAME:CEST
DTSTART:19700329T020000
RRULE:FREQ=YEARLY;BYMONTH=3;BYDAY=-1SU
END:DAYLIGHT
BEGIN:STANDARD
TZOFFSETFROM:+0200
TZOFFSETTO:+0100
TZNAME:CET
DTSTART:19701025T030000
RRULE:FREQ=YEARLY;BYMONTH=10;BYDAY=-1SU
END:STANDARD
END:VTIMEZONE
BEGIN:VEVENT
UID:2485226:Event:1847838
DTSTAMP:20260420T224240Z
SUMMARY:Randonnée et Créativité: Parc de Sceaux - Vallées aux Loup
 s
DESCRIPTION:Découverte du parc de Sceaux et de la  la Vallée aux Lo
 ups à travers une promenade et séance de créativité à travers :\n
 -l'écriture, le dessin, le collage ou la photo \nPas d’animation p
 révue, juste se laisser guider par son inspiration\nInformations prat
 iques :\n-Prévoir chaussures de randonnée, 1 litre d’eau minimum\
 n- Crayons de couleurs + feuilles de papier + modèles mandalas + phot
 os de magazine (prévoir 4/5 photos par personne) + ciseaux + colle + 
 appareil photo selon vos choix\n- Rythme : 4-5 kms/heure\n-Nombre de 
 participants  : 6 personnes\n-Lieu du RDV  + Horaire : communiqués 
 après inscription\n\n-Inscriptions par mail : brigitte_martoia@yahoo
 .fr en communiquant votre numéro de téléphone (envoyer sms en cas 
 annulation)\n- Prévoir chaussures de randonnée + 1 litre d'eau minim
 um\n- Apporter :  pique-nique +  fruits, fruits secs, gâteaux, bois
 sons \n- Apporter coussin ou tapis de sol, ....\nCette promenade grat
 uite, est sous votre responsabilité \n\nAu plaisir\nShasta\n\n\n\n\n
 Pour plus d'information, aller sur https://epanews.fr/events/randonn-e
 -et-cr-ativit-parc-de-sceaux-vall-es-aux-loups
DTSTART;TZID=Europe/Paris:20140329T113000
DTEND;TZID=Europe/Paris:20140329T173000
CATEGORIES:92
LOCATION:Parc de Sceaux
WEBSITE:
URL:
CONTACT:
ORGANIZER;CN=Shasta:https://epanews.fr/profile/Shasta
ATTACH;FMTTYPE="image/jpeg":
ATTENDEE;ROLE=REQ-PARTICIPANT;PARTSTAT=ACCEPTED;RSVP=TRUE;CN=Shasta:ht
 tps://epanews.fr/profile/Shasta
END:VEVENT
END:VCALENDAR
