BEGIN:VCALENDAR
PRODID:NingEventWidget-v1
VERSION:2.0
METHOD:PUBLISH
BEGIN:VTIMEZONE
TZID:Europe/Paris
X-LIC-LOCATION:Europe/Paris
BEGIN:DAYLIGHT
TZOFFSETFROM:+0100
TZOFFSETTO:+0200
TZNAME:CEST
DTSTART:19700329T020000
RRULE:FREQ=YEARLY;BYMONTH=3;BYDAY=-1SU
END:DAYLIGHT
BEGIN:STANDARD
TZOFFSETFROM:+0200
TZOFFSETTO:+0100
TZNAME:CET
DTSTART:19701025T030000
RRULE:FREQ=YEARLY;BYMONTH=10;BYDAY=-1SU
END:STANDARD
END:VTIMEZONE
BEGIN:VEVENT
UID:2485226:Event:2131476
DTSTAMP:20260426T042612Z
SUMMARY:Rando-désert: \"au coeur du chant de l'Etre\"
DESCRIPTION:\n\"Au coeur du chant de l'Être\"Se soigner et célébrer
  la vie avec les sons de notre voix6 jours de randonnée chamelière d
 ans le grand erg orientaldu 14 au 21 février 2015\"Au coeur du chant 
 de l'Etre\"PictureLa voix est un outil extraordinaire donné pour nous
  inviter à rencontrer notre corps, notre cœur et notre âme de faço
 n vibrante. En effet, le son vient nous parler au plus profond de nos 
 cellules, à leur mémoire, et peut soigner ou guérir nos blessures s
 i nous en avons envie.La voix, immensément riche en couleurs et en ti
 mbres, est porteuse de vibrations qui peuvent nous remettre en contact
  avec notre cœur, avec l’Amour : en lui laissant la place, nous nou
 s réconcilions avec le flux de la vie et notre corps entier participe
  à cette fête lui aussi.Par les chants et les sons, notre âme se se
 nt entendue, comprise, rencontrée.Corps, cœur et âme peuvent ainsi 
 se réunifier dans la joie d’exister. Cette randonnée de ressourcem
 ent  est ouverte à tous ceux qui désirent un temps de pause spiritu
 el autour de ce thème, sans pré requis préalable. Par les chants et
  les sons, notre âme se sent entendue, comprise, rencontrée.Corps, c
 œur et âme peuvent ainsi se réunifier dans la joie d’exister. Cet
 te randonnée de ressourcement  est ouverte à tous ceux qui désiren
 t un temps de pause spirituel autour de ce thème, sans pré requis pr
 éalable.\n\nPour plus d'information, aller sur https://epanews.fr/eve
 nts/rando-d-sert-au-coeur-du-chant-de-l-etre
DTSTART;TZID=Europe/Paris:20150213T180000
DTEND;TZID=Europe/Paris:20150221T190000
CATEGORIES:tous
LOCATION:Nouaïl
WEBSITE:http://www.geode.be/au-coeur-du-chant-de-lecirctre.html
URL:http://www.geode.be/au-coeur-du-chant-de-lecirctre.html
CONTACT:0602285082
ORGANIZER;CN="Mariehélène Faurès":https://epanews.fr/profile/MarieH
 eleneFaures
ATTACH;FMTTYPE="image/jpeg":http://storage.ning.com/topology/rest/1.0/
 file/get/1663262850?profile=original
ATTENDEE;ROLE=REQ-PARTICIPANT;PARTSTAT=ACCEPTED;RSVP=TRUE;CN="Mariehé
 lène Faurès":https://epanews.fr/profile/MarieHeleneFaures
END:VEVENT
END:VCALENDAR
