BEGIN:VCALENDAR
PRODID:NingEventWidget-v1
VERSION:2.0
METHOD:PUBLISH
BEGIN:VTIMEZONE
TZID:Europe/Paris
X-LIC-LOCATION:Europe/Paris
BEGIN:DAYLIGHT
TZOFFSETFROM:+0100
TZOFFSETTO:+0200
TZNAME:CEST
DTSTART:19700329T020000
RRULE:FREQ=YEARLY;BYMONTH=3;BYDAY=-1SU
END:DAYLIGHT
BEGIN:STANDARD
TZOFFSETFROM:+0200
TZOFFSETTO:+0100
TZNAME:CET
DTSTART:19701025T030000
RRULE:FREQ=YEARLY;BYMONTH=10;BYDAY=-1SU
END:STANDARD
END:VTIMEZONE
BEGIN:VEVENT
UID:2485226:Event:793073
DTSTAMP:20260422T051341Z
SUMMARY:Rando-chant
DESCRIPTION:Amis des villes et des champs, proches et lointains, citad
 ins en mal de nature,  chanteurs frustrÃ©s persuadÃ©s que vous chantez
  faux,  chanteurs et randonneurs aguerris en recherche de rÃ©pertoire,
  de rÃ©sonance, de sens, de rencontres conviviales....  Bienvenue!!\nR
 ejoignez la Rando chant organisÃ©e par Steven Duprez et Carole Jacques
  les 17, 18 et 19 mai 2012 :\n\n3 jours de balade, de chants, de dÃ©co
 uvertes du paysage et de la nature, d'improvisations, de rythmes, de l
 Ã¢cher prise...au rythme de nos pas et de ceux de nos Ã¢nes porteurs. 
 Tout cela dans les sentiers et chemins du plateau du Vercors.\n Organi
 sation : Nourriture incluse ( locale et bio) Campement en cas de pluie
  fourni DÃ©part le 17 mai Ã  10h retour prÃ©vu le 19 vers 17h Flyer en
  piÃ¨ce jointe Lien du site info : www.atm.aventure.com  Encadrants : 
 Steven Duprez : Accompagnateur En Montagne, Animateur nature Carole Ja
 cques : Musicienne et Dumiste  Renseignements et rÃ©servations auprÃ¨s
  de Carole : carole.jacotte@free.fr 06 60 57 81 96 dÃ©pÃ´t de 50 â‚¬ d
 'arrhes avant le 10 mai 2012 \nPartez en itinÃ©rance Ã  la dÃ©couverte
  des montagnes drÃ´moises et de vos paysages intÃ©rieurs.\nEscortÃ©s d
 'Ã¢nes, guidÃ©s d'un accompagnateur montagne/animateur nature, et d'un
 e chanteuse/musicienne intervenante, laissez-vous porter au grÃ© de la
  marche par les richesses du vivant qui nous entoure.\n\nTrois jours d
 e pleine nature Ã  partager, de paysages Ã  lire, de plantes Ã  observ
 er et Ã  dÃ©guster, d'Ã©lÃ©ments naturels Ã  cueillir, Ã  transformerÂ
  : la cavitÃ© d'un arbre deviendra rÃ©sonance, des bÃ¢tons se feront m
 arionnettes ou claves, le souffle se fera voix aux hasards de nos renc
 ontres et de nos pÃ©riples.\n\nNotre marche sera un grand land art vis
 uel, vocal et Ã©motionnel, un tissage de rencontres et d'instants de v
 ie partagÃ©s, dans l'apprivoisement de nos souffle, ancrage et ouvertu
 re, dans l'acquisition et la pratique d'un rÃ©pertoire de chants de tr
 aditions orales, d'improvisations rythmiques et vocales, le tout se mÃ
 ªlant dans une Ã©coute joyeuse du prÃ©sent.\n\nPour plus d'information
 , aller sur https://epanews.fr/events/rando-chant
DTSTART;TZID=Europe/Paris:20120517T100000
DTEND;TZID=Europe/Paris:20120519T170000
CATEGORIES:26
LOCATION:Vercors
WEBSITE:http://www.ladrometourisme.com/fr/idees-sejours/bio-ecotourism
 e--sitrasej750043--rando-insolite-chanter-et-composer-avec-la-nature--
 luc-en-diois.html
URL:http://www.ladrometourisme.com/fr/idees-sejours/bio-ecotourisme--s
 itrasej750043--rando-insolite-chanter-et-composer-avec-la-nature--luc-
 en-diois.html
CONTACT:0660578196
ORGANIZER;CN=jacotte:https://epanews.fr/profile/jacotte
ATTACH;FMTTYPE="image/jpeg":
ATTENDEE;ROLE=REQ-PARTICIPANT;PARTSTAT=ACCEPTED;RSVP=TRUE;CN=jacotte:h
 ttps://epanews.fr/profile/jacotte
END:VEVENT
END:VCALENDAR
