BEGIN:VCALENDAR
PRODID:NingEventWidget-v1
VERSION:2.0
METHOD:PUBLISH
BEGIN:VTIMEZONE
TZID:Europe/Paris
X-LIC-LOCATION:Europe/Paris
BEGIN:DAYLIGHT
TZOFFSETFROM:+0100
TZOFFSETTO:+0200
TZNAME:CEST
DTSTART:19700329T020000
RRULE:FREQ=YEARLY;BYMONTH=3;BYDAY=-1SU
END:DAYLIGHT
BEGIN:STANDARD
TZOFFSETFROM:+0200
TZOFFSETTO:+0100
TZNAME:CET
DTSTART:19701025T030000
RRULE:FREQ=YEARLY;BYMONTH=10;BYDAY=-1SU
END:STANDARD
END:VTIMEZONE
BEGIN:VEVENT
UID:2485226:Event:1342838
DTSTAMP:20260422T124251Z
SUMMARY:réveillez le guérisseur qui est en vous !
DESCRIPTION:Bonjour,\nA une époque où les traitements allopathiques,
  même s'ils sont souvent indéniablement efficaces et parfois inconto
 urnables, montrent leurs limites et leurs effets secondaires parfois d
 ésastreux, il me paraît important de nous ré-approprier -et apprend
 re à utiliser- ce merveilleux pouvoir de guérir qui réside en chacu
 n de nous, et que les Hommes, toutes cultures confondus, ont utilisé 
 depuis la nuit des temps.\nDurant cet Atelier vous apprendrez à :\n-
  ré-harmoniser les énergies rapidement et facilement.\n- ressentir d
 ans vos mains les perturbations énergétiques des autres et comment l
 es soulager\n- faire basculer en avant ou en arrière une personne jus
 te en l'effleurant (spectaculaire!)\n- faire une coque de protection p
 our ne plus être influencé par les ondes négatives.\n- focaliser et
  à projeter votre énergie sur la personne de votre choix.\n- utilise
 r des techniques simples de respiration et de visualisation pour boost
 er votre pouvoir de guérir\nJe vous ferais aussi en direct une démon
 stration de la réelle efficacité du travail à distance !\nBonus :
  je vous apprendrai comment utiliser les solides de Platon pour  bé
 néficier de leurs fabuleux pouvoir ré-énergisants !\nCet ateliers 
 est ouvert à tous, thérapeutes ou non, et dans une ambiance ludique,
  avec des exercices simples, il vous permettra de commencer à découv
 rir les pouvoirs insoupçonnés qui sommeillent en vous et vous appren
 drez comment les utiliser pour soulager efficacement et durablement vo
 s proches ou/et , peut-être , de réveiller le désir de devenir vous
 -même guérisseur !\n \nParticipation : 30 € (inclus un soin pou
 r chacun des participants)\nRESERVATION SOUHAITEE  !  PLACES  LIMIT
 EES  A  16  PARTICIPANTS\nNOUS AVONS TOUS EN NOUS CE MERVEILLEUX PO
 UVOIR DE GUÉRIR ...POURQUOI PAS VOUS ?\n \n\nPour plus d'informat
 ion, aller sur https://epanews.fr/events/r-veillez-le-gu-risseur-qui-e
 st-en-vous
DTSTART;TZID=Europe/Paris:20130526T190000
DTEND;TZID=Europe/Paris:20130526T223000
CATEGORIES:75
LOCATION:Centre JLP Paris 20e
WEBSITE:http://www.la-sante-par-le-magnetisme.sitew.com
URL:http://www.la-sante-par-le-magnetisme.sitew.com
CONTACT:33621306845
ORGANIZER;CN="PATRICK CANESTRARI":https://epanews.fr/profile/PATRICKCA
 NESTRARI
ATTACH;FMTTYPE="image/jpeg":
ATTENDEE;ROLE=REQ-PARTICIPANT;PARTSTAT=ACCEPTED;RSVP=TRUE;CN="PATRICK 
 CANESTRARI":https://epanews.fr/profile/PATRICKCANESTRARI
END:VEVENT
END:VCALENDAR
