BEGIN:VCALENDAR
PRODID:NingEventWidget-v1
VERSION:2.0
METHOD:PUBLISH
BEGIN:VTIMEZONE
TZID:Europe/Paris
X-LIC-LOCATION:Europe/Paris
BEGIN:DAYLIGHT
TZOFFSETFROM:+0100
TZOFFSETTO:+0200
TZNAME:CEST
DTSTART:19700329T020000
RRULE:FREQ=YEARLY;BYMONTH=3;BYDAY=-1SU
END:DAYLIGHT
BEGIN:STANDARD
TZOFFSETFROM:+0200
TZOFFSETTO:+0100
TZNAME:CET
DTSTART:19701025T030000
RRULE:FREQ=YEARLY;BYMONTH=10;BYDAY=-1SU
END:STANDARD
END:VTIMEZONE
BEGIN:VEVENT
UID:2485226:Event:1427386
DTSTAMP:20260422T091443Z
SUMMARY:rÃ©veillez le guÃ©risseur qui est en vous !
DESCRIPTION:A une Ã©poque oÃ¹ les traitements allopathiques, mÃªme s'i
 ls sont souvent efficaces et parfois incontournables, montrent leurs l
 imites et, surtout, leurs effets secondaires quelquefois dÃ©sastreux, 
 il est important de dÃ©couvrir que le pouvoir de guÃ©rir rÃ©side en ch
 acun de nousÂ !\nVenez dÃ©couvrir commentÂ :\n- rÃ©-harmoniser les Ã©n
 ergies rapidement et facilement.\n-ressentir les perturbations Ã©nergÃ
 ©tiques et comment les soulager.\n-faire basculer en avant ou en arriÃ
 ¨re une personne juste en l'effleurant (spectaculaire !)\n-faire une c
 oque de protection pour ne plus Ãªtre influencÃ© par les ondes nÃ©gati
 ves.\n-focaliser et projeter votre Ã©nergie .\n-utiliser des technique
 s simples de respiration et de visualisation pour booster votre pouvoi
 r de guÃ©rir\n-Faire des soins Ã  distance\nCet ateliers est ouvert Ã 
  tous, thÃ©rapeutes ou non, et dans une ambiance ludique, avec des exe
 rcices simples, il vous permettra de commencer Ã  dÃ©couvrir les pouvo
 irs insoupÃ§onnÃ©s qui sommeillent en vous et peut-Ãªtre , de rÃ©veill
 er le dÃ©sir de devenir vous-mÃªme guÃ©risseurÂ !\nLieuÂ : la Salle JL
 P au sous-sol\nParticipationÂ : 50 â‚¬ (inclus un soin pour chacun des
  participants)\nRÃ©servation souhaitÃ©e (places limitÃ©es Ã  16 partic
 ipants) contactÂ : Patrick CANESTRARI mailÂ :canestrarip@ yahoo.fr tel
 Â : 06/21/30/68/45 SiteÂ : la sante par le magnetisme.sitew.com\n\nPou
 r plus d'information, aller sur https://epanews.fr/events/r-veillez-le
 -gu-risseur-qui-est-en-vous-2
DTSTART;TZID=Europe/Paris:20130629T170000
DTEND;TZID=Europe/Paris:20130629T220000
CATEGORIES:75
LOCATION:Paris 20 iÃ©me
WEBSITE:http://la-sante-par-le-magnetisme.sitew.com
URL:http://la-sante-par-le-magnetisme.sitew.com
CONTACT:06/21/30/68/45
ORGANIZER;CN="PATRICK CANESTRARI":https://epanews.fr/profile/PATRICKCA
 NESTRARI
ATTACH;FMTTYPE="image/jpeg":
ATTENDEE;ROLE=REQ-PARTICIPANT;PARTSTAT=ACCEPTED;RSVP=TRUE;CN="PATRICK 
 CANESTRARI":https://epanews.fr/profile/PATRICKCANESTRARI
END:VEVENT
END:VCALENDAR
