BEGIN:VCALENDAR
PRODID:NingEventWidget-v1
VERSION:2.0
METHOD:PUBLISH
BEGIN:VTIMEZONE
TZID:Europe/Paris
X-LIC-LOCATION:Europe/Paris
BEGIN:DAYLIGHT
TZOFFSETFROM:+0100
TZOFFSETTO:+0200
TZNAME:CEST
DTSTART:19700329T020000
RRULE:FREQ=YEARLY;BYMONTH=3;BYDAY=-1SU
END:DAYLIGHT
BEGIN:STANDARD
TZOFFSETFROM:+0200
TZOFFSETTO:+0100
TZNAME:CET
DTSTART:19701025T030000
RRULE:FREQ=YEARLY;BYMONTH=10;BYDAY=-1SU
END:STANDARD
END:VTIMEZONE
BEGIN:VEVENT
UID:2485226:Event:2298237
DTSTAMP:20260423T192348Z
SUMMARY:Révéler notre nature profonde
DESCRIPTION:Dans un lieu merveilleux bénéficiant d'un micro-climat .
 .. Au menu : massages chamaniques, danse .... Plus : ballades, hammam
 , soirées à thème (musique Gnawa, tarots, méditation...) \n\nPo
 ur plus d'information, aller sur https://epanews.fr/events/r-v-ler-not
 re-nature-profonde
DTSTART;TZID=Europe/Paris:20150704T100000
DTEND;TZID=Europe/Paris:20150709T190000
CATEGORIES:maroc
LOCATION:Issaouira
WEBSITE:
URL:
CONTACT:0607320352 - 0616431649
ORGANIZER:Daniel Labille, Cathou Demarchi
ATTACH;FMTTYPE="image/jpeg":
ATTENDEE;ROLE=REQ-PARTICIPANT;PARTSTAT=ACCEPTED;RSVP=TRUE;CN="Demarchi
  Cathou":https://epanews.fr/profile/DemarchiCathou
END:VEVENT
END:VCALENDAR
