BEGIN:VCALENDAR
PRODID:NingEventWidget-v1
VERSION:2.0
METHOD:PUBLISH
BEGIN:VTIMEZONE
TZID:Europe/Paris
X-LIC-LOCATION:Europe/Paris
BEGIN:DAYLIGHT
TZOFFSETFROM:+0100
TZOFFSETTO:+0200
TZNAME:CEST
DTSTART:19700329T020000
RRULE:FREQ=YEARLY;BYMONTH=3;BYDAY=-1SU
END:DAYLIGHT
BEGIN:STANDARD
TZOFFSETFROM:+0200
TZOFFSETTO:+0100
TZNAME:CET
DTSTART:19701025T030000
RRULE:FREQ=YEARLY;BYMONTH=10;BYDAY=-1SU
END:STANDARD
END:VTIMEZONE
BEGIN:VEVENT
UID:2485226:Event:2633911
DTSTAMP:20260422T084533Z
SUMMARY:Réunion  le 22 mai à Soizy (91450 ) : projet de vie collecti
 ve dans le sud
DESCRIPTION:Première réunion d'investisseurs du projet de vie collec
 tive dans le sud de la France.\n\nPour plus d'information, aller sur h
 ttps://epanews.fr/events/r-union-le-22-mai-soizy-91450-projet-de-vie-c
 ollective-dans-le
DTSTART;TZID=Europe/Paris:20160522T183000
DTEND;TZID=Europe/Paris:20160522T213000
CATEGORIES:915450
LOCATION:Soizy près de Palaiseau et Paris
WEBSITE:
URL:
CONTACT:
ORGANIZER;CN="GUERIN Evelyne":https://epanews.fr/profile/GUERINEvelyne
ATTACH;FMTTYPE="image/jpeg":
ATTENDEE;ROLE=REQ-PARTICIPANT;PARTSTAT=ACCEPTED;RSVP=TRUE;CN="GUERIN E
 velyne":https://epanews.fr/profile/GUERINEvelyne
END:VEVENT
END:VCALENDAR
