BEGIN:VCALENDAR
PRODID:NingEventWidget-v1
VERSION:2.0
METHOD:PUBLISH
BEGIN:VTIMEZONE
TZID:Europe/Paris
X-LIC-LOCATION:Europe/Paris
BEGIN:DAYLIGHT
TZOFFSETFROM:+0100
TZOFFSETTO:+0200
TZNAME:CEST
DTSTART:19700329T020000
RRULE:FREQ=YEARLY;BYMONTH=3;BYDAY=-1SU
END:DAYLIGHT
BEGIN:STANDARD
TZOFFSETFROM:+0200
TZOFFSETTO:+0100
TZNAME:CET
DTSTART:19701025T030000
RRULE:FREQ=YEARLY;BYMONTH=10;BYDAY=-1SU
END:STANDARD
END:VTIMEZONE
BEGIN:VEVENT
UID:2485226:Event:2687585
DTSTAMP:20260420T222046Z
SUMMARY:Réunion d'information programme MBSR : réduction du stress p
 ar la pleine conscience
DESCRIPTION:Réunion d'information pour le prochain Programme MBSR Ré
 duction du Stress par la Pleine Conscience.\nSoirée de présentation 
 gratuite et d'informations sur la Méditation Pleine Conscience et ce 
 programme en 8 semaines du 5 octobre au 30 novembre (8 mercredi de 19
 h-21h30 et 1 dimanche de 10h-17h)\nCe programme est une possibilité d
 e développer une nouvelle manière d'être en relation avec le stress
  et de pratiquer de manière intensive la méditation dans l'état d'e
 sprit de la Pleine Conscience.\nPour cette réunion et/ ou pour s'info
 rmer de ce programme :                   INSCRIPTION OBLIGATO
 IRE par mail svp : espacebeauregard75@yahoo.fr\nChristiane Beaugé, e
 nseignante du programme MBSR - Sophrologue-Relaxologue Détails sur le
  site : www.pleineconscience75.com \n\nPour plus d'information, aller 
 sur https://epanews.fr/events/r-union-d-information-programme-mbsr-r-d
 uction-du-stress-par-la-6
DTSTART;TZID=Europe/Paris:20160928T190000
DTEND;TZID=Europe/Paris:20160928T200000
CATEGORIES:75
LOCATION:Paris 75002
WEBSITE:http://www.pleineconscience75.com
URL:http://www.pleineconscience75.com
CONTACT:06 70 49 32 38 - 01 44 61 74 59
ORGANIZER;CN="Christiane Beaugé":https://epanews.fr/profile/Christian
 eBeauge
ATTACH;FMTTYPE="image/jpeg":http://storage.ning.com/topology/rest/1.0/
 file/get/1662981963?profile=original
ATTENDEE;ROLE=REQ-PARTICIPANT;PARTSTAT=ACCEPTED;RSVP=TRUE;CN="Christia
 ne Beaugé":https://epanews.fr/profile/ChristianeBeauge
END:VEVENT
END:VCALENDAR
