BEGIN:VCALENDAR
PRODID:NingEventWidget-v1
VERSION:2.0
METHOD:PUBLISH
BEGIN:VTIMEZONE
TZID:Europe/Paris
X-LIC-LOCATION:Europe/Paris
BEGIN:DAYLIGHT
TZOFFSETFROM:+0100
TZOFFSETTO:+0200
TZNAME:CEST
DTSTART:19700329T020000
RRULE:FREQ=YEARLY;BYMONTH=3;BYDAY=-1SU
END:DAYLIGHT
BEGIN:STANDARD
TZOFFSETFROM:+0200
TZOFFSETTO:+0100
TZNAME:CET
DTSTART:19701025T030000
RRULE:FREQ=YEARLY;BYMONTH=10;BYDAY=-1SU
END:STANDARD
END:VTIMEZONE
BEGIN:VEVENT
UID:2485226:Event:2601678
DTSTAMP:20260423T032028Z
SUMMARY:RÃ©union d'information programme MBSR : rÃ©duction du stress p
 ar la pleine conscience
DESCRIPTION:RÃ©union d'information pour le prochain Programme MBSR RÃ©
 duction du Stress par la Pleine Conscience.\nSoirÃ©e de prÃ©sentation 
 gratuite et d'informations sur la MÃ©ditation Pleine Conscience et ce 
 programme en 8 semaines du 11 mai au 29 juinÂ (8 mercredi de 19h-21h30
  et 1 samedi de 10h-17h)\nCe programme est une possibilitÃ© de dÃ©velo
 pper une nouvelle maniÃ¨re d'Ãªtre en relation avec le stress et de pr
 atiquer de maniÃ¨re intensive la mÃ©ditation dans l'Ã©tat d'esprit de 
 la Pleine Conscience.\nPour cette rÃ©union :Â  Â Â Â Â Â Â Â Â Â Â Â Â
  Â Â Â Â   INSCRIPTION OBLIGATOIRE par mail svp christianebeauge@gmail
 .com Christiane BeaugÃ©, enseignante du programme MBSR - Sophrologue-R
 elaxologue DÃ©tails sur le site : www.pleineconscience75.com \n\nPour 
 plus d'information, aller sur https://epanews.fr/events/r-union-d-info
 rmation-programme-mbsr-r-duction-du-stress-par-la-3
DTSTART;TZID=Europe/Paris:20160428T190000
DTEND;TZID=Europe/Paris:20160428T210000
CATEGORIES:75
LOCATION:Paris 75002
WEBSITE:http://www.pleineconscience75.com
URL:http://www.pleineconscience75.com
CONTACT:06 70 49 32 38 - 01 44 61 74 59
ORGANIZER;CN="Christiane BeaugÃ©":https://epanews.fr/profile/Christian
 eBeauge
ATTACH;FMTTYPE="image/jpeg":http://storage.ning.com/topology/rest/1.0/
 file/get/1662981963?profile=original
ATTENDEE;ROLE=REQ-PARTICIPANT;PARTSTAT=ACCEPTED;RSVP=TRUE;CN="Christia
 ne BeaugÃ©":https://epanews.fr/profile/ChristianeBeauge
END:VEVENT
END:VCALENDAR
